BEGIN:VCALENDAR
VERSION:2.0
PRODID:-//ChamberMaster//Event Calendar 2.0//EN
METHOD:PUBLISH
X-PUBLISHED-TTL:P3D
REFRESH-INTERVAL:P3D
CALSCALE:GREGORIAN
BEGIN:VEVENT
DTSTART:20101209T190000Z
DTEND:20101209T220000Z
X-MICROSOFT-CDO-ALLDAYEVENT:FALSE
SUMMARY:Annual Open House -- Rockingham County Partnership for Children
DESCRIPTION:Today's children are our future leaders\, parents\, and workers.\n\n	Our state's future prosperity depends on their healthydevelopment and growth.\n\n	Early childhood experiences are the key to ensuring that healthy development.\n\n	 \n\n	Please join us at our annual Open House\n\n	where you will have the opportunity to\n\n	learn more about the services we offer \n\n	for young children and families.\n\n	 \n\n	 \n\n	Rockingham County Partnership for Children\n\n	7572 NC Hwy 87\, Reidsville\n\n	Thursday\, December 9\, 2010\n\n	2pm-5pm\n\n	\n\n	For more information\, please contact Heather Kilpatrick\, Executive Director\, at (336) 342-9676 ext. 202
X-ALT-DESC;FMTTYPE=text/html:<p style="text-align: center">\n	<strong><span style="font-family: colonnamt\,sans-serif"><span style="color: #005800"><span style="font-size: 12pt">Today&#39\;s children are our future leaders\, parents\, and workers.</span></span></span></strong><br />\n	<strong><span style="font-family: colonnamt\,sans-serif"><span style="color: #005800"><span style="font-size: 12pt">Our state&#39\;s future prosperity depends on their healthy</span></span></span></strong><strong><span style="font-family: colonnamt\,sans-serif"><span style="color: #005800"><span style="font-size: 12pt">development and growth.<br />\n	Early childhood experiences </span></span></span></strong><strong><span style="font-family: colonnamt\,sans-serif"><span style="color: #005800"><span style="font-size: 12pt">are the key to ensuring that healthy development.</span></span></span></strong><br />\n	&nbsp\;</p>\n<p style="text-align: center">\n	<span style="font-family: colonnamt\,sans-serif"><span style="color: #c00000"><span style="font-size: 24pt">Please join us at our <strong><em>annual Open House</em></strong></span></span></span><br />\n	<span style="font-family: colonnamt\,sans-serif"><span style="color: #c00000"><span style="font-size: 24pt">where you will have the opportunity to</span></span></span><br />\n	<span style="font-family: colonnamt\,sans-serif"><span style="color: #c00000"><span style="font-size: 24pt">learn more about the services we offer </span></span></span><br />\n	<span style="font-family: colonnamt\,sans-serif"><span style="color: #c00000"><span style="font-size: 24pt">for young children and families.</span></span></span><br />\n	&nbsp\;<br />\n	&nbsp\;<br />\n	<strong><span style="font-family: colonnamt\,sans-serif"><span style="color: #4f81bd"><span style="font-size: 16pt">Rockingham County Partnership for Children</span></span></span></strong><br />\n	<strong><span style="font-family: colonnamt\,sans-serif"><span style="color: #4f81bd"><span style="font-size: 16pt">7572 NC Hwy 87\, Reidsville</span></span></span></strong><br />\n	<strong><span style="font-family: colonnamt\,sans-serif"><span style="color: #4f81bd"><span style="font-size: 16pt">Thursday\, December 9\, 2010</span></span></span></strong><br />\n	<strong><span style="font-family: colonnamt\,sans-serif"><span style="color: #4f81bd"><span style="font-size: 16pt">2pm-5pm<br />\n	<br />\n	<span style="font-size: 14px"><span>For more information\, please contact Heather Kilpatrick\, Executive Director\, at (336) 342-9676 ext. 202 </span></span></span></span></span></strong></p>\n
LOCATION:
UID:e.111.1561
SEQUENCE:3
DTSTAMP:20260424T004534Z
URL:https://business.reidsvillechamber.org/events/details/annual-open-house-rockingham-county-partnership-for-children-12-09-2010-1561
END:VEVENT

END:VCALENDAR
