BEGIN:VCALENDAR
VERSION:2.0
PRODID:-//ChamberMaster//Event Calendar 2.0//EN
METHOD:PUBLISH
X-PUBLISHED-TTL:P3D
REFRESH-INTERVAL:P3D
CALSCALE:GREGORIAN
BEGIN:VEVENT
DTSTART:20141212T230000Z
DTEND:20141213T020000Z
X-MICROSOFT-CDO-ALLDAYEVENT:FALSE
SUMMARY:Annual Senior Holiday Event
DESCRIPTION:
X-ALT-DESC;FMTTYPE=text/html:
LOCATION:Reidsville Recreation Department 201 N. Washington Avenue Reidsville\, NC 27320
UID:e.111.2983
SEQUENCE:3
DTSTAMP:20260422T143224Z
URL:https://business.reidsvillechamber.org/events/details/annual-senior-holiday-event-12-12-2014-2983
END:VEVENT

END:VCALENDAR
