BEGIN:VCALENDAR
VERSION:2.0
PRODID:-//ChamberMaster//Event Calendar 2.0//EN
METHOD:PUBLISH
X-PUBLISHED-TTL:P3D
REFRESH-INTERVAL:P3D
CALSCALE:GREGORIAN
BEGIN:VEVENT
DTSTART:20111008T130000Z
DTEND:20111008T143000Z
X-MICROSOFT-CDO-ALLDAYEVENT:FALSE
SUMMARY:APFCU Community Shred-It Day
DESCRIPTION:The staff of American Partners Federal\n\n	Credit Union and Shred It is teaming\n\n	up for a Community-Wide Shred It Day\n\n	Saturday\, October 8th! Shred It will\n\n	provide a state-of-the-art truck on site\n\n	to securely shred and destroy all\n\n	personal documents. Everyone is\n\n	invited to bring all of their old or\n\n	unwanted documents\, receipts\, bank\n\n	statements\, etc. to be safely discarded.\n\n	This service is offered FREE to the\n\n	entire community\, and American\n\n	Partners FCU encourages individuals to\n\n	come out and support the fight against\n\n	identity theft!\n\n	*Individuals only. No businesses please.
X-ALT-DESC;FMTTYPE=text/html:<div>\n	The staff of American Partners Federal</div>\n<div>\n	Credit Union and Shred It is teaming</div>\n<div>\n	up for a Community-Wide Shred It Day</div>\n<div>\n	Saturday\, October 8th! Shred It will</div>\n<div>\n	provide a state-of-the-art truck on site</div>\n<div>\n	to securely shred and destroy all</div>\n<div>\n	personal documents. Everyone is</div>\n<div>\n	invited to bring all of their old or</div>\n<div>\n	unwanted documents\, receipts\, bank</div>\n<div>\n	statements\, etc. to be safely discarded.</div>\n<div>\n	This service is offered FREE to the</div>\n<div>\n	entire community\, and American</div>\n<div>\n	Partners FCU encourages individuals to</div>\n<div>\n	come out and support the fight against</div>\n<div>\n	identity theft!</div>\n<div>\n	*Individuals only. No businesses please.</div>\n
LOCATION:American Partners Federal Credit Union
UID:e.111.2039
SEQUENCE:3
DTSTAMP:20260423T084037Z
URL:https://business.reidsvillechamber.org/events/details/apfcu-community-shred-it-day-10-08-2011-2039
END:VEVENT

END:VCALENDAR
