BEGIN:VCALENDAR
VERSION:2.0
PRODID:-//ChamberMaster//Event Calendar 2.0//EN
METHOD:PUBLISH
X-PUBLISHED-TTL:P3D
REFRESH-INTERVAL:P3D
CALSCALE:GREGORIAN
BEGIN:VEVENT
DTSTART:20120323T230000Z
DTEND:20120324T013000Z
X-MICROSOFT-CDO-ALLDAYEVENT:FALSE
SUMMARY:Arbor Ridge at Eden's World Tour
DESCRIPTION:Join Arbor Ridge at Eden on March 23rd from 7:00pm-9:30pm\n\n	as we kick start the Spring season with an evening of food and\n\n	beverages from Asia\, France\, Germany\, and Italy featuring:\n\n	- Heavy hor d'oeuvres\n\n	- Appetizers\n\n	- Desserts\n\n	- Beverages\n\n	(alcoholic beverages will be available to guests over 21)\n\n	\n\n	Receive a raffle ticket at the door and enter to win a $50.00 gift certificate to\n\n	Northern Belle Restaurant in Madison!!!!\n\n	\n\n	 RSVP at 336-623-7004 or\n\n	kfisher@ridgecare.com
X-ALT-DESC;FMTTYPE=text/html:<p style="text-align: center">\n	Join Arbor Ridge at Eden on March 23rd from 7:00pm-9:30pm<br />\n	as we kick start the Spring season with an evening of food and<br />\n	beverages from Asia\, France\, Germany\, and Italy featuring:<br />\n	- Heavy hor d&#39\;oeuvres<br />\n	- Appetizers<br />\n	- Desserts<br />\n	- Beverages<br />\n	(alcoholic beverages will be available to guests over 21)<br />\n	<br />\n	Receive a raffle ticket at the door and enter to win a $50.00 gift certificate to<br />\n	Northern Belle Restaurant in Madison!!!!<br />\n	<br />\n	&nbsp\;RSVP at 336-623-7004 or<br />\n	<a href="mailto:kfisher@ridgecare.com">kfisher@ridgecare.com</a>&nbsp\;<br />\n	<br />\n	&nbsp\;</p>\n<br />\n
LOCATION:302 South Kennedy Avenue Eden\, NC 27288
UID:e.111.2169
SEQUENCE:3
DTSTAMP:20260421T130907Z
URL:https://business.reidsvillechamber.org/events/details/arbor-ridge-at-eden-s-world-tour-03-23-2012-2169
END:VEVENT

END:VCALENDAR
