BEGIN:VCALENDAR
VERSION:2.0
PRODID:-//ChamberMaster//Event Calendar 2.0//EN
METHOD:PUBLISH
X-PUBLISHED-TTL:P3D
REFRESH-INTERVAL:P3D
CALSCALE:GREGORIAN
BEGIN:VEVENT
DTSTART:20110519T200000Z
DTEND:20110519T210000Z
X-MICROSOFT-CDO-ALLDAYEVENT:FALSE
SUMMARY:Arts Council Workshop for Grassroot Grant Applications
DESCRIPTION:The Arts Council is offering a workshop for all interested in applying for Grassroots Grants
X-ALT-DESC;FMTTYPE=text/html:The Arts Council is offering a workshop for all interested in applying for Grassroots Grants
LOCATION:Agricultural Building\, Wentworth
UID:e.111.1923
SEQUENCE:3
DTSTAMP:20260423T170102Z
URL:https://business.reidsvillechamber.org/events/details/arts-council-workshop-for-grassroot-grant-applications-05-19-2011-1923
END:VEVENT

END:VCALENDAR
