BEGIN:VCALENDAR
VERSION:2.0
PRODID:-//ChamberMaster//Event Calendar 2.0//EN
METHOD:PUBLISH
X-PUBLISHED-TTL:P3D
REFRESH-INTERVAL:P3D
CALSCALE:GREGORIAN
BEGIN:VEVENT
DTSTART:20090917T043000Z
DTEND:20090917T173000Z
X-MICROSOFT-CDO-ALLDAYEVENT:FALSE
SUMMARY:Arts & Crafts for Kids (& Moms!)
DESCRIPTION:Mark your calendar for the THIRD THURSDAY each month and enjoy craft time with your little ones (ages PreK-3rd grade.) All supplies provided. Create a different project each month.Choose the session that best suits your schedule. Advance registration required. Parent/guardian must attend with child.
X-ALT-DESC;FMTTYPE=text/html:Mark your calendar for the THIRD THURSDAY each month and enjoy craft time with your little ones (ages PreK-3rd grade.) All supplies provided. Create a different project each month.Choose the session that best suits your schedule. Advance registration required. Parent/guardian must attend with child.
LOCATION:Upstairs studio at Everyday Art 209 SW Market Street\, Downtown Reidsville
UID:e.111.850
SEQUENCE:3
DTSTAMP:20260425T005831Z
URL:https://business.reidsvillechamber.org/events/details/arts-crafts-for-kids-moms-09-17-2009-850
END:VEVENT

END:VCALENDAR
