BEGIN:VCALENDAR
VERSION:2.0
PRODID:-//ChamberMaster//Event Calendar 2.0//EN
METHOD:PUBLISH
X-PUBLISHED-TTL:P3D
REFRESH-INTERVAL:P3D
CALSCALE:GREGORIAN
BEGIN:VEVENT
DTSTART;VALUE=DATE:20110910
DTEND;VALUE=DATE:20110911
TRANSP:TRANSPARENT
X-MICROSOFT-CDO-ALLDAYEVENT:TRUE
SUMMARY:Arts on the Square
DESCRIPTION:Local atrisans will be on hand for this fun event.   Blues and jazz music will be featured\, along with wine tasting provided by Reidsville Florist and MillerCoors will be offering a beer tasting.  For more information contact Judy at 349-1099.  \n\n	Performing for Arts wil be Jazz Musician Bruce Malatratt.  Singer Chy/NN\, Dulcimer group Chords and Strings also all the way from Atlanta Jazz musician Dee Lucas.  Don't miss this great event
X-ALT-DESC;FMTTYPE=text/html:<div>\n	<span style="font-size: 9pt\;"><span style="color: black\;">&nbsp\;Local atrisans will be on hand for this fun event.&nbsp\;&nbsp\; Blues and jazz music will be featured\, along with wine tasting provided by Reidsville Florist and MillerCoors will be offering a beer tasting.&nbsp\; For more information contact Judy at 349-1099.&nbsp\; </span></span><br />\n	<span style="font-size: 9pt\;"><span style="color: black\;">Performing for Arts wil be Jazz Musician Bruce Malatratt.&nbsp\; Singer Chy/NN\, Dulcimer group Chords and Strings also all the way from Atlanta Jazz musician Dee Lucas.&nbsp\; Don&#39\;t miss this great event</span></span></div>\n
LOCATION:Market Square in downtown Reidsville
UID:e.111.1381
SEQUENCE:3
DTSTAMP:20260423T101406Z
URL:https://business.reidsvillechamber.org/events/details/arts-on-the-square-09-10-2011-1381
END:VEVENT

END:VCALENDAR
