BEGIN:VCALENDAR
VERSION:2.0
PRODID:-//ChamberMaster//Event Calendar 2.0//EN
METHOD:PUBLISH
X-PUBLISHED-TTL:P3D
REFRESH-INTERVAL:P3D
CALSCALE:GREGORIAN
BEGIN:VEVENT
DTSTART:20090912T180000Z
DTEND:20090913T000000Z
X-MICROSOFT-CDO-ALLDAYEVENT:FALSE
SUMMARY:''Arts on the Square''
DESCRIPTION:Local Artists\; Artifair (hands-on art experience for kids)\; Music from the Market Street Theatre "Late Summer Blues and Cool Jazz"
X-ALT-DESC;FMTTYPE=text/html:Local Artists\; Artifair (hands-on art experience for kids)\; Music from the Market Street Theatre "Late Summer Blues and Cool Jazz"
LOCATION:Market Square in Downtown Reidsville
UID:e.111.1201
SEQUENCE:3
DTSTAMP:20260425T005734Z
URL:https://business.reidsvillechamber.org/events/details/arts-on-the-square-09-12-2009-1201
END:VEVENT

END:VCALENDAR
