BEGIN:VCALENDAR
VERSION:2.0
PRODID:-//ChamberMaster//Event Calendar 2.0//EN
METHOD:PUBLISH
X-PUBLISHED-TTL:P3D
REFRESH-INTERVAL:P3D
CALSCALE:GREGORIAN
BEGIN:VEVENT
DTSTART:20150110T150000Z
DTEND:20150110T190000Z
X-MICROSOFT-CDO-ALLDAYEVENT:FALSE
SUMMARY:AUCTION - Reidsville Mini Storage
DESCRIPTION:Auction at Reidsville Mini Storage!\n\nSold by unit only!
X-ALT-DESC;FMTTYPE=text/html:<div style="text-align: center\;">Auction at Reidsville Mini Storage!<br />\nSold by unit only!</div>\n
LOCATION:Reidsville Mini Storage 1047/1048 Freeway Drive Reidsville\, NC 27320
UID:e.111.2990
SEQUENCE:3
DTSTAMP:20260422T124530Z
URL:https://business.reidsvillechamber.org/events/details/auction-reidsville-mini-storage-01-10-2015-2990
END:VEVENT

END:VCALENDAR
