BEGIN:VCALENDAR
VERSION:2.0
PRODID:-//ChamberMaster//Event Calendar 2.0//EN
METHOD:PUBLISH
X-PUBLISHED-TTL:P3D
REFRESH-INTERVAL:P3D
CALSCALE:GREGORIAN
BEGIN:VEVENT
DTSTART:20110916T230000Z
DTEND:20110917T010000Z
X-MICROSOFT-CDO-ALLDAYEVENT:FALSE
SUMMARY:Auditions for Dearly Departed
DESCRIPTION:
X-ALT-DESC;FMTTYPE=text/html:
LOCATION:Rockingham Community College Student Center
UID:e.111.1976
SEQUENCE:3
DTSTAMP:20260423T103311Z
URL:https://business.reidsvillechamber.org/events/details/auditions-for-dearly-departed-09-16-2011-1976
END:VEVENT

END:VCALENDAR
