BEGIN:VCALENDAR
VERSION:2.0
PRODID:-//ChamberMaster//Event Calendar 2.0//EN
METHOD:PUBLISH
X-PUBLISHED-TTL:P3D
REFRESH-INTERVAL:P3D
CALSCALE:GREGORIAN
BEGIN:VEVENT
DTSTART:20110917T140000Z
DTEND:20110917T160000Z
X-MICROSOFT-CDO-ALLDAYEVENT:FALSE
SUMMARY:Auditions for Dearly Departed
DESCRIPTION:
X-ALT-DESC;FMTTYPE=text/html:
LOCATION:Rockingham Community College-Student Center
UID:e.111.1977
SEQUENCE:3
DTSTAMP:20260423T103455Z
URL:https://business.reidsvillechamber.org/events/details/auditions-for-dearly-departed-09-17-2011-1977
END:VEVENT

END:VCALENDAR
