BEGIN:VCALENDAR
VERSION:2.0
PRODID:-//ChamberMaster//Event Calendar 2.0//EN
METHOD:PUBLISH
X-PUBLISHED-TTL:P3D
REFRESH-INTERVAL:P3D
CALSCALE:GREGORIAN
BEGIN:VEVENT
DTSTART:20120211T150000Z
DTEND:20120211T170000Z
X-MICROSOFT-CDO-ALLDAYEVENT:FALSE
SUMMARY:Auditions for TGRC presents Ramona Quimby
DESCRIPTION:Auditions are open to all children ages 8 to 14. \n\nAuditionees are asked to memorize and prepare a short monologue.
X-ALT-DESC;FMTTYPE=text/html:<b><span style="font-weight:normal"><span style="font-family:Tahoma\,sans-serif\;font-size:9.5pt"><b><span style="font-family:Arial\,Verdana\,sans-serif\;font-weight:normal">Auditions are open to all children ages 8 to 14.&nbsp\;<br />\nAuditionees are asked to memorize and prepare a short monologue.</span></b></span></span></b>
LOCATION:Rockingham Community College Advanced Technologies building
UID:e.111.2134
SEQUENCE:3
DTSTAMP:20260421T161220Z
URL:https://business.reidsvillechamber.org/events/details/auditions-for-tgrc-presents-ramona-quimby-02-11-2012-2134
END:VEVENT

END:VCALENDAR
