BEGIN:VCALENDAR
VERSION:2.0
PRODID:-//ChamberMaster//Event Calendar 2.0//EN
METHOD:PUBLISH
X-PUBLISHED-TTL:P3D
REFRESH-INTERVAL:P3D
CALSCALE:GREGORIAN
BEGIN:VEVENT
DTSTART:20120415T213000Z
DTEND:20120416T010000Z
X-MICROSOFT-CDO-ALLDAYEVENT:FALSE
SUMMARY:Auditions for TGRC presents Willy Wonka
DESCRIPTION:Sun. April 15\n\n	5:30 PM - Ages 5 -7\n\n	6:30 PM - Ages 8 - 18\n\n	8:00 PM - Ages 19 - up\n\n	 \n\n	\n		Auditionees ages 5-18 must attend one of these MANDATORY Audition Meetings WITH a parent or guardian:\n	\n		10:00 - 10:15am Sat April 14 for auditionees ages 5-18\n	\n		2:30 - 2:45pm Sat April 14\n	\n		6:30 - 6:45pm Sun April 15\n	\n		 \n	\n		 \n	\n		All Auditions and Callbacks will be held at Rockingham County High School.\n	\n		 \n	\n		If you are unable to attend the scheduled audition dates\,please contact the director at pbarr@tgrc-nc.com\n	\n		 \n	\n		Auditionees should dress to move comfortably. No bare feet\, open-toed shoes\, or flip flops.\n	\n		 \n	\n		This production has some audition requirements that are different from other shows we have performed. Please read the following carefully:\n\n\n	 \n\n	Monologues:\n\n	\n\n	\n		All kids wanting to be one of the Golden Ticket winners need to perform this monologue as the character they are interested in:\n	\n		I love chocolate.  I could eat it all day long.  I remember one time I was eating chocolate and when I got to the last bite I was so sad because it was all gone.  I knew then that chocolate makes people happy.  It makes me happy.  I wish I had some right now.\n	\n\n	\n		Required Musical Numbers for Auditions:\n	\n		 \n	\n		Auditionees will not be allowed to choose their own audition songs. They must choose a song from the show. Auditionees are encouraged to memorize the audition songs.\n\n		\n\n		Examples of Monologues and Musical numbers can be found on our website\, www.tgrc-nc.com/Home/2011-2012-schedule/wonka
X-ALT-DESC;FMTTYPE=text/html:<div>\n	<span class="Apple-style-span" style="font-size: 13px\; color: rgb(0\, 0\, 0)\; "><font face="Arial" size="2">Sun. April 15</font></span></div>\n<div>\n	<span class="Apple-style-span" style="font-size: 13px\; color: rgb(0\, 0\, 0)\; "><font face="Arial" size="2">5:30 PM - Ages 5 -7</font></span></div>\n<div>\n	<span class="Apple-style-span" style="font-size: 13px\; color: rgb(0\, 0\, 0)\; "><font face="Arial" size="2">6:30 PM - Ages 8 - 18</font></span></div>\n<div>\n	<span class="Apple-style-span" style="font-size: 13px\; color: rgb(0\, 0\, 0)\; "><font face="Arial" size="2">8:00 PM - Ages 19 - up</font></span></div>\n<div>\n	&nbsp\;</div>\n<div style="margin-top: 0in\; margin-right: 0in\; margin-bottom: 0pt\; margin-left: 0in\; ">\n	<div>\n		<span class="Apple-style-span" style="font-size: 13px\; "><font class="Apple-style-span" color="#000000"><span style="font-size: 9.5pt\; ">Auditionees ages 5-18 must attend one of these MANDATORY Audition Meetings WITH a parent or guardian:</span></font></span></div>\n	<div>\n		<span class="Apple-style-span" style="font-size: 13px\; "><font class="Apple-style-span" color="#000000">10:00 - 10:15am Sat April 14 for auditionees ages 5-18</font></span></div>\n	<div>\n		<span class="Apple-style-span" style="font-size: 13px\; "><font class="Apple-style-span" color="#000000">2:30 - 2:45pm Sat April 14</font></span></div>\n	<div>\n		<span class="Apple-style-span" style="font-size: 13px\; "><font class="Apple-style-span" color="#000000">6:30 - 6:45pm Sun April 15</font></span></div>\n	<div>\n		&nbsp\;</div>\n	<div>\n		<span class="Apple-style-span" style="font-size: 13px\; "><font class="Apple-style-span" color="#000000">&nbsp\;</font></span></div>\n	<div>\n		<span class="Apple-style-span" style="font-size: 13px\; "><font class="Apple-style-span" color="#000000"><font face="Arial" size="2">All Auditions and Callbacks will be held at Rockingham County High School.</font></font></span></div>\n	<div>\n		<span class="Apple-style-span" style="font-size: 13px\; "><font class="Apple-style-span" color="#000000">&nbsp\;</font></span></div>\n	<div>\n		<span class="Apple-style-span" style="font-size: 13px\; "><font class="Apple-style-span" color="#000000"><font face="Arial" size="2">If you are unable to attend the scheduled audition dates\,please contact the director at&nbsp\;<a href="mailto:pbarr@tgrc-nc.com" style="color: rgb(17\, 85\, 204)\; " target="_blank">pbarr@tgrc-nc.com</a></font></font></span></div>\n	<div>\n		<span class="Apple-style-span" style="font-size: 13px\; "><font class="Apple-style-span" color="#000000">&nbsp\;</font></span></div>\n	<div style="margin-top: 0in\; margin-right: 0in\; margin-bottom: 0pt\; margin-left: 0in\; ">\n		<span class="Apple-style-span" style="font-size: 13px\; "><font class="Apple-style-span" color="#000000">Auditionees should dress to move comfortably. No bare feet\, open-toed shoes\, or flip flops.</font></span></div>\n	<div style="margin-top: 0in\; margin-right: 0in\; margin-bottom: 0pt\; margin-left: 0in\; ">\n		&nbsp\;</div>\n	<div>\n		<span class="Apple-style-span" style="font-size: 13px\; "><font class="Apple-style-span" color="#000000"><font face="Arial" size="2"><b><i>This production has some audition requirements that are different from other shows we have performed. Please read the following carefully:</i></b></font></font></span></div>\n</div>\n<div style="margin-top: 0in\; margin-right: 0in\; margin-bottom: 0pt\; margin-left: 0in\; ">\n	&nbsp\;</div>\n<div style="margin-top: 0in\; margin-right: 0in\; margin-bottom: 0pt\; margin-left: 0in\; ">\n	<span class="Apple-style-span" style="font-size: 13px\; "><font class="Apple-style-span" color="#000000"><span style="font-family: Arial\, Verdana\, sans-serif\; "><font size="3"><b>Monologues:</b></font></span></font></span><br />\n	<br />\n	<div style="font-size: 9.5pt\; font-weight: normal\; ">\n		<span class="Apple-style-span" style="font-size: 13px\; "><font class="Apple-style-span" color="#000000"><span style="font-family: Arial\, Verdana\, sans-serif\; ">All kids wanting to be one of the Golden Ticket winners need to perform this monologue as the character they are interested in:</span></font></span></div>\n	<p style="font-size: 9.5pt\; font-weight: normal\; margin-left: 40px\; ">\n		<span class="Apple-style-span" style="font-size: 13px\; "><font class="Apple-style-span" color="#000000"><span style="font-family: Arial\, Verdana\, sans-serif\; "><i>I love chocolate.&nbsp\; I could eat it all day long.&nbsp\; I remember one time I was eating chocolate and when I got to the last bite I was so sad because it was all gone.&nbsp\; I knew then that chocolate makes people happy.&nbsp\; It makes me happy.&nbsp\; I wish I had some right now.</i></span></font></span></p>\n	<br />\n	<div style="font-size: 9.5pt\; ">\n		<span class="Apple-style-span" style="font-size: 13px\; "><font class="Apple-style-span" color="#000000"><span style="font-family: Arial\, Verdana\, sans-serif\; "><font size="3"><b>Required Musical Numbers for Auditions:</b></font></span></font></span></div>\n	<div style="font-size: 9.5pt\; font-weight: normal\; ">\n		<span class="Apple-style-span" style="font-size: 13px\; "><font class="Apple-style-span" color="#000000"><span style="font-family: Arial\, Verdana\, sans-serif\; ">&nbsp\;</span></font></span></div>\n	<div style="font-size: 9.5pt\; font-weight: normal\; ">\n		<span class="Apple-style-span" style="font-size: 13px\; "><font class="Apple-style-span" color="#000000"><span style="font-family: Arial\, Verdana\, sans-serif\; ">Auditionees will not be allowed to choose their own audition songs. They must choose a song from the show. Auditionees are encouraged to memorize the audition songs.<br />\n		<br />\n		Examples of Monologues and Musical numbers can be found on our website\, www.tgrc-nc.com/Home/2011-2012-schedule/wonka&nbsp\;</span></font></span></div>\n</div>\n
LOCATION:Rockingham County High School
UID:e.111.2188
SEQUENCE:3
DTSTAMP:20260421T130708Z
URL:https://business.reidsvillechamber.org/events/details/auditions-for-tgrc-presents-willy-wonka-04-15-2012-2188
END:VEVENT

END:VCALENDAR
