BEGIN:VCALENDAR
VERSION:2.0
PRODID:-//ChamberMaster//Event Calendar 2.0//EN
METHOD:PUBLISH
X-PUBLISHED-TTL:P3D
REFRESH-INTERVAL:P3D
CALSCALE:GREGORIAN
BEGIN:VEVENT
DTSTART:20120106T000000Z
DTEND:20120106T020000Z
X-MICROSOFT-CDO-ALLDAYEVENT:FALSE
SUMMARY:Auditions for The TGRC presents Little Women\, The Musical
DESCRIPTION:Singing Audition: 16 bars of a "classic" show tune\, such as Rodgers & Hammerstein\, Lerner & Loewe\, etc. Bring sheet music for accompanist.\n\n\n\nActing Audition: No monologue is required\; readings will be from the script.\n\nWhile you are encouraged to note on the audition form the specific character(s) for which you would like to read\, the director will consider actors for all roles.
X-ALT-DESC;FMTTYPE=text/html:<strong>Singing Audition: </strong>16 bars of a &quot\;classic&quot\; show tune\, such as Rodgers &amp\; Hammerstein\, Lerner &amp\; Loewe\, etc. Bring sheet music for accompanist.<br />\n<br />\n<b>Acting Audition:</b> No monologue is required\; readings will be from the script.<br />\nWhile you are encouraged to note on the audition form the specific character(s) for which you would like to read\, the director will consider actors for all roles.<br />\n
LOCATION:Rockingham Community College Auditorium- Advanced Technologies Building
UID:e.111.2096
SEQUENCE:3
DTSTAMP:20260421T162510Z
URL:https://business.reidsvillechamber.org/events/details/auditions-for-the-tgrc-presents-little-women-the-musical-01-05-2012-2096
END:VEVENT

END:VCALENDAR
