BEGIN:VCALENDAR
VERSION:2.0
PRODID:-//ChamberMaster//Event Calendar 2.0//EN
METHOD:PUBLISH
X-PUBLISHED-TTL:P3D
REFRESH-INTERVAL:P3D
CALSCALE:GREGORIAN
BEGIN:VEVENT
DTSTART:20111027T110000Z
DTEND:20111027T230000Z
X-MICROSOFT-CDO-ALLDAYEVENT:FALSE
SUMMARY:Auxiliary Jewelry Sale
DESCRIPTION:The Annie Penn Auxiliary will sponsor a Jewelry & Gift Sale on Thursday\, October 27. This will be a one-day sale from 7:00 am until 7:00 pm. The sale will be held in the Main Lobby\, across from the hospital gift shop\, and is open to the public. A wide selection of jewelry\, handbags\, and gifts will be available.\nAll profits will be used to fund equipment for Annie Penn Hospital.
X-ALT-DESC;FMTTYPE=text/html:<p class="MsoNormal" style="margin: 0in 0in 0pt">\n	<span style="font-size: 11pt\; font-family: calibri"><font color="#000000"><font face="Times New Roman">The Annie Penn Auxiliary will sponsor a Jewelry &amp\; Gift Sale on <b style="mso-bidi-font-weight: normal">Thursday\, October 27</b>. This will be a one-day sale from 7:00 am until 7:00 pm. The sale will be held in the Main Lobby\, across from the hospital gift shop\, and is open to the public. A wide selection of jewelry\, handbags\, and gifts will be available.<o:p></o:p></font></font></span></p>\n<span style="font-size: 11pt\; font-family: calibri\; mso-fareast-font-family: 'times new roman'\; mso-bidi-font-family: 'times new roman'\; mso-ansi-language: en-us\; mso-fareast-language: en-us\; mso-bidi-language: ar-sa"><font color="#000000" face="Times New Roman">All profits will be used to fund equipment for Annie Penn Hospital.</font></span>
LOCATION:Annie Penn Hospital
UID:e.111.2037
SEQUENCE:3
DTSTAMP:20260423T085944Z
URL:https://business.reidsvillechamber.org/events/details/auxiliary-jewelry-sale-10-27-2011-2037
END:VEVENT

END:VCALENDAR
