BEGIN:VCALENDAR
VERSION:2.0
PRODID:-//ChamberMaster//Event Calendar 2.0//EN
METHOD:PUBLISH
X-PUBLISHED-TTL:P3D
REFRESH-INTERVAL:P3D
CALSCALE:GREGORIAN
BEGIN:VEVENT
DTSTART;VALUE=DATE:20110629
DTEND;VALUE=DATE:20110630
TRANSP:TRANSPARENT
X-MICROSOFT-CDO-ALLDAYEVENT:TRUE
SUMMARY:Babysitting Workshop
DESCRIPTION:Annie Penn Hospital\, in conjunction with the Reidsville fire department will conduct a free babysitting workshop for youth ages 11-13\, on June 29th. Registration will open on Wednesday\, June 1st and the workshop is limited to 25 participants.  First aid\, fire safety\, CPR\, child development\, and infant care will be covered in the class To register\, please call 832-8000
X-ALT-DESC;FMTTYPE=text/html:<p>\n	Annie Penn Hospital\, in conjunction with the&nbsp\;Reidsville fire department will conduct a free babysitting workshop for youth ages 11-13\,&nbsp\;on June 29th. Registration will open&nbsp\;on&nbsp\;Wednesday\, June 1st and the workshop is limited to 25 participants.&nbsp\; First aid\, fire safety\, CPR\, child&nbsp\;development\, and infant care will be covered in the class To register\, please call 832-8000&nbsp\;</p>\n
LOCATION:Womankind Center on Fourth floor
UID:e.111.1928
SEQUENCE:3
DTSTAMP:20260423T151645Z
URL:https://business.reidsvillechamber.org/events/details/babysitting-workshop-06-29-2011-1928
END:VEVENT

END:VCALENDAR
