BEGIN:VCALENDAR
VERSION:2.0
PRODID:-//ChamberMaster//Event Calendar 2.0//EN
METHOD:PUBLISH
X-PUBLISHED-TTL:P3D
REFRESH-INTERVAL:P3D
CALSCALE:GREGORIAN
BEGIN:VEVENT
DTSTART:20100714T130000Z
DTEND:20100714T190000Z
X-MICROSOFT-CDO-ALLDAYEVENT:FALSE
SUMMARY:Babysitting Workshop at Annie Penn Hospital
DESCRIPTION:For young people ages 11-13.   Wednesday\, July 14\, 2010.  Topics include: Getting the job\, getting it again\, emergency medical tips\, fire and other safety issues\, making it fun\, bedtime and discipline problems\, handling a baby.  Space is limited to 25.  To register\, call 832-8000.
X-ALT-DESC;FMTTYPE=text/html:For young people ages 11-13.   Wednesday\, July 14\, 2010.  Topics include: Getting the job\, getting it again\, emergency medical tips\, fire and other safety issues\, making it fun\, bedtime and discipline problems\, handling a baby.  Space is limited to 25.  To register\, call 832-8000.
LOCATION:Annie Penn Hospital - Womankind Center - 4th Floor
UID:e.111.1184
SEQUENCE:3
DTSTAMP:20260424T101200Z
URL:https://business.reidsvillechamber.org/events/details/babysitting-workshop-at-annie-penn-hospital-07-14-2010-1184
END:VEVENT

END:VCALENDAR
