BEGIN:VCALENDAR
VERSION:2.0
PRODID:-//ChamberMaster//Event Calendar 2.0//EN
METHOD:PUBLISH
X-PUBLISHED-TTL:P3D
REFRESH-INTERVAL:P3D
CALSCALE:GREGORIAN
BEGIN:VEVENT
DTSTART;VALUE=DATE:20110929
DTEND;VALUE=DATE:20110930
TRANSP:TRANSPARENT
X-MICROSOFT-CDO-ALLDAYEVENT:TRUE
SUMMARY:Bake Sale for United Way
DESCRIPTION:Annie Penn Volunteers will be conducting a Bake Sale to benefit Annie Penn Hospital's 2011 United Way Campaign on Thursday\, September 29th\, in the Annie Penn cafeteria. The sale will begin at 9:00 a.m. and continue until all items are sold. The public is invited.
X-ALT-DESC;FMTTYPE=text/html:<span style="font-size: 12pt\; font-family: calibri\; mso-fareast-font-family: 'times new roman'\; mso-bidi-font-family: 'courier new'\; mso-ansi-language: en-us\; mso-fareast-language: en-us\; mso-bidi-language: ar-sa"><font color="#000000" face="Times New Roman">Annie Penn Volunteers will be conducting a Bake Sale to benefit Annie Penn Hospital&rsquo\;s 2011 United Way Campaign on <b style="mso-bidi-font-weight: normal">Thursday\,</b> <b style="mso-bidi-font-weight: normal">September 29<sup>th</sup></b>\, in the Annie Penn cafeteria. The sale will begin at 9:00 a.m. and continue until all items are sold. The public is invited. </font></span>
LOCATION:Annie Penn Hospital
UID:e.111.1996
SEQUENCE:3
DTSTAMP:20260423T103507Z
URL:https://business.reidsvillechamber.org/events/details/bake-sale-for-united-way-09-29-2011-1996
END:VEVENT

END:VCALENDAR
