BEGIN:VCALENDAR
VERSION:2.0
PRODID:-//ChamberMaster//Event Calendar 2.0//EN
METHOD:PUBLISH
X-PUBLISHED-TTL:P3D
REFRESH-INTERVAL:P3D
CALSCALE:GREGORIAN
BEGIN:VEVENT
DTSTART:20100828T123000Z
DTEND:20100828T170000Z
X-MICROSOFT-CDO-ALLDAYEVENT:FALSE
SUMMARY:Bark for Life
DESCRIPTION:The American Cancer Society"FURRST ANNUAL" Bark for Life Saturday\, August 28\, 2010Stoneville Memorial ParkStoneville\, NC Registration 8:30-9:15 amWalk begins at 9:15 am Register online atwww.relayforlife.org/barkrockinghamnc For more information contact:336-548-1974orrelay_online@ymail.com
X-ALT-DESC;FMTTYPE=text/html:<div>&nbsp\;</div><div style="text-align: center"><span style="font-size: medium"><span style="color: #cc99ff">The American Cancer Society</span></span></div><div style="text-align: center"><span style="font-size: medium"><span style="color: #cc99ff">&quot\;FURRST&nbsp\;ANNUAL&quot\; </span></span></div><div style="text-align: center"><span style="font-size: medium"><span style="color: #cc99ff">Bark for Life</span></span></div><div style="text-align: center">&nbsp\;</div><div style="text-align: center"><span style="font-size: medium"><span>Saturday\, August 28\, 2010</span></span></div><div style="text-align: center"><span style="font-size: medium"><span>Stoneville Memorial Park</span></span></div><div style="text-align: center"><span style="font-size: medium"><span>Stoneville\, NC</span></span></div><div style="text-align: center">&nbsp\;</div><div style="text-align: center"><span style="font-size: medium"><span>Registration 8:30-9:15 am</span></span></div><div style="text-align: center"><span style="font-size: medium"><span>Walk begins at 9:15 am</span></span></div><div style="text-align: center">&nbsp\;</div><div style="text-align: center"><span style="font-size: medium"><span>Register online at</span></span></div><div style="text-align: center"><span style="font-size: medium"><span><a href="http://www.relayforlife.org/barkrockinghamnc">www.relayforlife.org/barkrockinghamnc</a></span></span></div><div style="text-align: center">&nbsp\;</div><div style="text-align: center"><span style="font-size: medium"><span>For more information contact:</span></span></div><div style="text-align: center"><span style="font-size: medium"><span>336-548-1974</span></span></div><div style="text-align: center"><span style="font-size: medium"><span>or</span></span></div><div style="text-align: center"><span style="font-size: medium"><span>relay_online@ymail.com</span></span></div>
LOCATION:
UID:e.111.1497
SEQUENCE:3
DTSTAMP:20260424T065441Z
URL:https://business.reidsvillechamber.org/events/details/bark-for-life-08-28-2010-1497
END:VEVENT

END:VCALENDAR
