BEGIN:VCALENDAR
VERSION:2.0
PRODID:-//ChamberMaster//Event Calendar 2.0//EN
METHOD:PUBLISH
X-PUBLISHED-TTL:P3D
REFRESH-INTERVAL:P3D
CALSCALE:GREGORIAN
BEGIN:VEVENT
DTSTART:20110303T231500Z
DTEND:20110304T003000Z
X-MICROSOFT-CDO-ALLDAYEVENT:FALSE
SUMMARY:Beginner's Yoga at Everyday Art
DESCRIPTION:Beginner's yoga class.  Registered Yoga Teacher - Lynn Dyer\n\nFor those that have never done yoga and those that want to continue their practice.
X-ALT-DESC;FMTTYPE=text/html:Beginner's yoga class.  Registered Yoga Teacher - Lynn Dyer\n<br>For those that have never done yoga and those that want to continue their practice.\n<br>
LOCATION:Everyday Art
UID:e.111.1603
SEQUENCE:3
DTSTAMP:20260423T195011Z
URL:https://business.reidsvillechamber.org/events/details/beginner-s-yoga-at-everyday-art-03-03-2011-1603
END:VEVENT

END:VCALENDAR
