BEGIN:VCALENDAR
VERSION:2.0
PRODID:-//ChamberMaster//Event Calendar 2.0//EN
METHOD:PUBLISH
X-PUBLISHED-TTL:P3D
REFRESH-INTERVAL:P3D
CALSCALE:GREGORIAN
BEGIN:VEVENT
DTSTART:20100212T000000Z
DTEND:20100212T010000Z
X-MICROSOFT-CDO-ALLDAYEVENT:FALSE
SUMMARY:Bethany Community Middle School Open House
DESCRIPTION:Bethany Community Middle School Enrollment Open House will be held on Thursday\, February 11th from 7 to 8 pm in the library.  The welcome in the library will be followed by classroom visits\, displays of student work\, refreshments\, etc.  Applications for next year will be available at the Open House & the deadline for turning in applications is March 1st . If we receive more applications that available slots\, the lottery will be held on March 15th from 7 to 8 pm in the library.  BCMS is a tuition-free public charter school that serves grades 6-8.  BCMS is open to ALL North Carolina students regardless of their county of residence.  For more information\, please call for a free brochure:  336-951-2500. Debbie Sumner Bethany Community Middle School181 Bethany Rd.\, Reidsville\, NC  27320Phone:  336-951-2500       Fax:  336-951-0087
X-ALT-DESC;FMTTYPE=text/html:<div><div><font size="2"><span style="font-size: 10pt">Bethany Community Middle School Enrollment Open House will be held on Thursday\, February 11<sup>th</sup> from 7 to 8 pm in the library.&nbsp\; The welcome in the library will be followed by classroom visits\, displays of student work\, refreshments\, etc.&nbsp\; Applications for next year will be available at the Open House &amp\; the deadline for turning in applications is March 1<sup>st</sup> . If we receive more applications that available slots\, the lottery will be held on March 15<sup>th</sup> from 7 to 8 pm in the library.&nbsp\; BCMS is a tuition-free public charter school that serves grades 6-8.&nbsp\; BCMS is open to ALL North Carolina students regardless of their county of residence.&nbsp\; For more information\, please call for a free brochure:&nbsp\; 336-951-2500.</span></font></div><div>&nbsp\;</div><div><span style="font-size: small"><font size="3">Debbie Sumner </font></span></div><div><span style="font-size: small">Bethany Community Middle School</span></div><div><span style="font-size: small">181 Bethany Rd.\, Reidsville\, NC&nbsp\; 27320</span></div><div><span style="font-size: small">Phone:&nbsp\; 336-951-2500&nbsp\;&nbsp\;&nbsp\;&nbsp\;&nbsp\;&nbsp\; Fax:&nbsp\; 336-951-0087</span></div></div>
LOCATION:
UID:e.111.1314
SEQUENCE:3
DTSTAMP:20260424T165816Z
URL:https://business.reidsvillechamber.org/events/details/bethany-community-middle-school-open-house-02-11-2010-1314
END:VEVENT

END:VCALENDAR
