BEGIN:VCALENDAR
VERSION:2.0
PRODID:-//ChamberMaster//Event Calendar 2.0//EN
METHOD:PUBLISH
X-PUBLISHED-TTL:P3D
REFRESH-INTERVAL:P3D
CALSCALE:GREGORIAN
BEGIN:VEVENT
DTSTART:20260516T200000Z
DTEND:20260517T000000Z
X-MICROSOFT-CDO-ALLDAYEVENT:FALSE
SUMMARY:Betsy's Bash
DESCRIPTION:We are thrilled to announce the third biennial Betsy's Bash\, a celebration and fundraising event for the Betsy-Jeff Penn 4-H Center\, to be held on Saturday\, May 16\, 2026\, from 4:00   8:00 p.m. An event ticket includes include a meal\, a s'mores dessert\, adult beverages\, live music and celebration with Penn's Pals in person at the Penn 4-H Center. This event will include a silent auction.
X-ALT-DESC;FMTTYPE=text/html:<p><span style="color:rgb(0\, 0\, 0)\; font-family:arial\; font-size:16px">We are thrilled to announce the third biennial Betsy&rsquo\;s Bash\, a celebration and fundraising event for the Betsy-Jeff Penn 4-H Center\, to be held on Saturday\, May 16\, 2026\, from 4:00 &ndash\; 8:00 p.m. An event ticket includes include a meal\, a s&rsquo\;mores dessert\, adult beverages\, live music and celebration with Penn&rsquo\;s&nbsp\;</span><span style="color:rgb(0\, 0\, 0)\; font-family:arial\; font-size:16px">Pals in person at the Penn 4-H Center. This event will include a silent auction.</span></p>\n
LOCATION:804 Cedar Lane Reidsville\, NC 27320
UID:e.111.11382
SEQUENCE:3
DTSTAMP:20260420T141641Z
URL:https://business.reidsvillechamber.org/events/details/betsy-s-bash-11382
END:VEVENT

END:VCALENDAR
