BEGIN:VCALENDAR
VERSION:2.0
PRODID:-//ChamberMaster//Event Calendar 2.0//EN
METHOD:PUBLISH
X-PUBLISHED-TTL:P3D
REFRESH-INTERVAL:P3D
CALSCALE:GREGORIAN
BEGIN:VEVENT
DTSTART:20110716T130000Z
DTEND:20110716T190000Z
X-MICROSOFT-CDO-ALLDAYEVENT:FALSE
SUMMARY:Birth and Baby Classes
DESCRIPTION:Offered by Reidsville OB/GYN Family Tree and The Women's Hospital of Greensboro\, this class will be a condensed Child Preparation Class that will be held at Annie Penn Hospital in the Womankind Center from 9:00 am-3:00 pm.  A second session that reviews Newborn Care and will include a tour of The Women's Hospital of Greensboro will be held from 6:30pm-9:30pm on July 19th.  The fee is $25 per couple\, and includes lunch for Saturday's class.  For more information or to register\, call Reidsville OB/GYN at 336-342-6063.
X-ALT-DESC;FMTTYPE=text/html:<p>\n	Offered by Reidsville OB/GYN Family Tree and The Women&#39\;s Hospital of Greensboro\, this class will be a condensed Child Preparation Class that will be held at Annie Penn Hospital in the Womankind Center from 9:00 am-3:00 pm.&nbsp\; A second session that reviews Newborn Care and will include a tour of The Women&#39\;s Hospital of Greensboro will be held from 6:30pm-9:30pm on July 19th.&nbsp\; The fee is $25 per couple\, and includes lunch for Saturday&#39\;s class.&nbsp\; For more information or to register\, call Reidsville OB/GYN at 336-342-6063.<br />\n	&nbsp\;</p>\n
LOCATION:Annie Penn Hospital and The Women's Hospital of Greensboro
UID:e.111.1955
SEQUENCE:3
DTSTAMP:20260423T151733Z
URL:https://business.reidsvillechamber.org/events/details/birth-and-baby-classes-07-16-2011-1955
END:VEVENT

END:VCALENDAR
