BEGIN:VCALENDAR
VERSION:2.0
PRODID:-//ChamberMaster//Event Calendar 2.0//EN
METHOD:PUBLISH
X-PUBLISHED-TTL:P3D
REFRESH-INTERVAL:P3D
CALSCALE:GREGORIAN
BEGIN:VEVENT
DTSTART:20090912T133000Z
DTEND:20090912T153000Z
X-MICROSOFT-CDO-ALLDAYEVENT:FALSE
SUMMARY:BLOCK-a-MONTH Quilting Class
DESCRIPTION:BLOCK-a-MONTH QUILTING\nInstructors:  Robyn McCann\, Genene Gilliam\nSaturday\, May 9th\, 9:30 am-11:30 am\; fee: $25\nNew students welcome each month as we explore the heritage art of hand-quilting! Create a new block each month! Experienced instructors give step-by-step guidance in creating a series of quilt blocks that may become your own family heirloom. Detailed supply list will be provided. (Ages 12-Adult.)
X-ALT-DESC;FMTTYPE=text/html:BLOCK-a-MONTH QUILTING\nInstructors:  Robyn McCann\, Genene Gilliam\nSaturday\, May 9th\, 9:30 am-11:30 am\; fee: $25\nNew students welcome each month as we explore the heritage art of hand-quilting! Create a new block each month! Experienced instructors give step-by-step guidance in creating a series of quilt blocks that may become your own family heirloom. Detailed supply list will be provided. (Ages 12-Adult.)
LOCATION:Upstairs studio at Everyday Art 209 SW Market Street\, Downtown Reidsville
UID:e.111.848
SEQUENCE:3
DTSTAMP:20260425T005733Z
URL:https://business.reidsvillechamber.org/events/details/block-a-month-quilting-class-09-12-2009-848
END:VEVENT

END:VCALENDAR
