BEGIN:VCALENDAR
VERSION:2.0
PRODID:-//ChamberMaster//Event Calendar 2.0//EN
METHOD:PUBLISH
X-PUBLISHED-TTL:P3D
REFRESH-INTERVAL:P3D
CALSCALE:GREGORIAN
BEGIN:VEVENT
DTSTART:20110608T153000Z
DTEND:20110608T200000Z
X-MICROSOFT-CDO-ALLDAYEVENT:FALSE
SUMMARY:Blood Drive
DESCRIPTION:The  American Red Cross will sponsor a blood drive on Wednesday\, June 8th from 11:30am- 4:00pm in the Woman Kind Center on the fourth floor. To register\, please call 951-4645\, or 951-4641. Donors will be registered to win Delta Airline Tickets and a $3000 giftt card.
X-ALT-DESC;FMTTYPE=text/html:The&nbsp\; American Red Cross will sponsor a blood drive on Wednesday\, June 8th from 11:30am- 4:00pm in the Woman Kind Center on the fourth floor. To register\, please call 951-4645\, or 951-4641.&nbsp\;Donors will be registered to win Delta Airline Tickets and a $3000 giftt card.
LOCATION:
UID:e.111.1933
SEQUENCE:3
DTSTAMP:20260423T164307Z
URL:https://business.reidsvillechamber.org/events/details/blood-drive-06-08-2011-1933
END:VEVENT

END:VCALENDAR
