BEGIN:VCALENDAR
VERSION:2.0
PRODID:-//ChamberMaster//Event Calendar 2.0//EN
METHOD:PUBLISH
X-PUBLISHED-TTL:P3D
REFRESH-INTERVAL:P3D
CALSCALE:GREGORIAN
BEGIN:VEVENT
DTSTART;VALUE=DATE:20100925
DTEND;VALUE=DATE:20100926
TRANSP:TRANSPARENT
X-MICROSOFT-CDO-ALLDAYEVENT:TRUE
SUMMARY:Bluegrass Concert at Market Square
DESCRIPTION:Bluegrass Concert with Steep Canyon Rangers\, Kickin Grass\, and Blues Creek.  For more information call 349-1099.
X-ALT-DESC;FMTTYPE=text/html:<div>Bluegrass Concert with Steep Canyon Rangers\, Kickin Grass\, and Blues Creek.&nbsp\; For more information call 349-1099.</div>
LOCATION:
UID:e.111.1383
SEQUENCE:3
DTSTAMP:20260424T053326Z
URL:https://business.reidsvillechamber.org/events/details/bluegrass-concert-at-market-square-09-25-2010-1383
END:VEVENT

END:VCALENDAR
