BEGIN:VCALENDAR
VERSION:2.0
PRODID:-//ChamberMaster//Event Calendar 2.0//EN
METHOD:PUBLISH
X-PUBLISHED-TTL:P3D
REFRESH-INTERVAL:P3D
CALSCALE:GREGORIAN
BEGIN:VEVENT
DTSTART:20141122T140000Z
DTEND:20141122T220000Z
X-MICROSOFT-CDO-ALLDAYEVENT:FALSE
SUMMARY:Bob Adams Florist Open House
DESCRIPTION:Bob Adams Florist Open House \n\nSaturday\, November 22\, 2014\n\n20% Off Storewide! \n\n(click link above for more details!)
X-ALT-DESC;FMTTYPE=text/html:<div style="text-align: center\;"><a href="http://cloud.chambermaster.com/userfiles/UserFiles/chambers/111/File/bobadams.pdf">Bob Adams Florist Open House</a>&nbsp\;<br />\nSaturday\, November 22\, 2014<br />\n20% Off Storewide!&nbsp\;<br />\n<span style="line-height: 20.7999992370605px\; text-align: center\;">(click link above for more details!)</span></div>\n
LOCATION:
UID:e.111.2971
SEQUENCE:3
DTSTAMP:20260422T180830Z
URL:https://business.reidsvillechamber.org/events/details/bob-adams-florist-open-house-11-22-2014-2971
END:VEVENT

END:VCALENDAR
