BEGIN:VCALENDAR
VERSION:2.0
PRODID:-//ChamberMaster//Event Calendar 2.0//EN
METHOD:PUBLISH
X-PUBLISHED-TTL:P3D
REFRESH-INTERVAL:P3D
CALSCALE:GREGORIAN
BEGIN:VEVENT
DTSTART:20150212T180000Z
DTEND:20150212T193000Z
X-MICROSOFT-CDO-ALLDAYEVENT:FALSE
SUMMARY:Book Discussion - One County\, One Book - Rockingham County Reads
DESCRIPTION:Book Discussion\n\nThe Invention of Wings by Sue Monk Kidd\n\nPresented by: One County\, One Book - Rockingham County Reads\n\n\n\nJoin us for the first book discussion for The Invention of Wings\, by Sue Monk Kidd. There will be open discussion of topics brought up in the book as well as a display of quilts and finger foods to enjoy. As a quilt connects and secures different pieces together so\, does the fabric of our lives. We are spiritually interwoven and stitched in time.
X-ALT-DESC;FMTTYPE=text/html:<div style="text-align: center\;"><span style="font-size:12px\;"><span style="font-family:arial\;">Book Discussion<br />\n<em>The Invention of Wings<strong>&nbsp\;</strong></em>by Sue Monk Kidd<br />\nPresented by: One County\, One Book - Rockingham County Reads<br />\n<br />\nJoin us for the first book discussion for <strong>The Invention of Wings\, </strong>by Sue Monk Kidd. There will be open discussion of topics brought up in the book as well as a display of quilts and finger foods to enjoy. <em>As a quilt connects and secures different pieces together so\, does the fabric of our lives. We are spiritually interwoven and stitched in time.</em></span></span><br />\n&nbsp\;</div>\n
LOCATION:The MARC - Museum and Archives of Rockingham County 1086 NC Hwy 65 Wentworth\, NC
UID:e.111.3036
SEQUENCE:3
DTSTAMP:20260422T103627Z
URL:https://business.reidsvillechamber.org/events/details/book-discussion-one-county-one-book-rockingham-county-reads-02-12-2015-3036
END:VEVENT

END:VCALENDAR
