BEGIN:VCALENDAR
VERSION:2.0
PRODID:-//ChamberMaster//Event Calendar 2.0//EN
METHOD:PUBLISH
X-PUBLISHED-TTL:P3D
REFRESH-INTERVAL:P3D
CALSCALE:GREGORIAN
BEGIN:VEVENT
DTSTART:20100722T230000Z
DTEND:20100723T010000Z
X-MICROSOFT-CDO-ALLDAYEVENT:FALSE
SUMMARY:Book Signing - Ted Hopkins of Wilkerson Funeral Home
DESCRIPTION:Ted Hopkins of Wilkerson Funeral Home Invites you to a book signingfor the release of his book LIfe Stories: Healing and Hope in the Wake of Loss atBarnes & NobleFriendly Center3102 Northline AvenueGreensboro\, NConJuly 22nd at 7:00 pm
X-ALT-DESC;FMTTYPE=text/html:<div style="text-align: center"><span style="font-size: small">Ted Hopkins of Wilkerson Funeral Home</span></div><div style="text-align: center">&nbsp\;</div><div style="text-align: center">Invites you to a book signing</div><div style="text-align: center">for the release of his book</div><div style="text-align: center">&nbsp\;</div><div style="text-align: center"><span style="font-size: small">LIfe Stories: Healing and Hope in the Wake of Loss</span></div><div style="text-align: center">&nbsp\;</div><div style="text-align: center">at</div><div style="text-align: center">Barnes &amp\; Noble</div><div style="text-align: center">Friendly Center</div><div style="text-align: center">3102 Northline Avenue</div><div style="text-align: center">Greensboro\, NC</div><div style="text-align: center">on</div><div style="text-align: center">July 22nd at 7:00 pm</div>
LOCATION:
UID:e.111.1483
SEQUENCE:3
DTSTAMP:20260424T101938Z
URL:https://business.reidsvillechamber.org/events/details/book-signing-ted-hopkins-of-wilkerson-funeral-home-07-22-2010-1483
END:VEVENT

END:VCALENDAR
