BEGIN:VCALENDAR
VERSION:2.0
PRODID:-//ChamberMaster//Event Calendar 2.0//EN
METHOD:PUBLISH
X-PUBLISHED-TTL:P3D
REFRESH-INTERVAL:P3D
CALSCALE:GREGORIAN
BEGIN:VEVENT
DTSTART;VALUE=DATE:20141018
DTEND;VALUE=DATE:20141019
TRANSP:TRANSPARENT
X-MICROSOFT-CDO-ALLDAYEVENT:TRUE
SUMMARY:Bowl-A-Thon for ADTS
DESCRIPTION:The 18th Annual Volunteer Caregivers Bowl-a-Thon will be held on Saturday\, October 18\, 2014\, at the Reidsville Bowling Lanes.  Donations from this event amount to about one-third of our budget.  Our goal this year is $20\,000. \n\n \n\nSince Caregivers merged with ADTS\, (Aging\, Disability\, and Transit Services of Rockingham County) we have seen many wonderful benefits\, including administrative cost savings.  Unfortunately\, additional funding cuts on the federal\, state and local levels have more than offset these savings.  Therefore\, your support is more critical this year than ever before!\n\n \n\nADTS Volunteer Caregiver Services has continued its commitment to providing FREE volunteer services such as transportation\, light housekeeping help\, minor home repairs\, respite care\, lawn care\, and wheelchair ramps.  We continue to depend upon your generous support to offer this help. Our Volunteer Services Coordinator has recruited new volunteers and plans to recruit many more\, further enhancing our ability to meet unmet needs in our community.\n\n \n\nWe are seeking participation from individuals\, businesses\, organizations\, and churches to bowl and raise donations.  Our requests for services grow each year.  Without your support we could not offer the needed services for our community.   \n\n \n\nWe would truly appreciate any participation you can give.  If you have any questions\, or are interested in participating in our annual Bowl-a-Thon\, please contact Volunteer Caregiver Services at (336) 349-2343.
X-ALT-DESC;FMTTYPE=text/html:The 18th Annual Volunteer Caregivers Bowl-a-Thon will be held on Saturday\, October 18\, 2014\, at the Reidsville Bowling Lanes. &nbsp\;Donations from this event amount to about one-third of our budget.&nbsp\; Our goal this year is $20\,000.&nbsp\;<br />\n&nbsp\;<br />\nSince Caregivers merged with ADTS\, (Aging\, Disability\, and Transit Services of Rockingham County) we have seen many wonderful benefits\, including administrative cost savings.&nbsp\; Unfortunately\, additional funding cuts on the federal\, state and local levels have more than offset these savings.&nbsp\; Therefore\, your support is more critical this year than ever before!<br />\n&nbsp\;<br />\nADTS Volunteer Caregiver Services has continued its commitment to providing FREE volunteer services such as transportation\, light housekeeping help\, minor home repairs\, respite care\, lawn care\, and wheelchair ramps.&nbsp\; We continue to depend upon your generous support to offer this help. Our Volunteer Services Coordinator has recruited new volunteers and plans to recruit many more\, further enhancing our ability to meet unmet needs in our community.<br />\n&nbsp\;<br />\nWe are seeking participation from individuals\, businesses\, organizations\, and churches to bowl and raise donations.&nbsp\; Our requests for services grow each year.&nbsp\; Without your support we could not offer the needed services for our community.&nbsp\; &nbsp\;<br />\n&nbsp\;<br />\nWe would truly appreciate any participation you can give.&nbsp\; If you have any questions\, or are interested in participating in our annual Bowl-a-Thon\, please contact Volunteer Caregiver Services at (336) 349-2343.
LOCATION:
UID:e.111.2917
SEQUENCE:3
DTSTAMP:20260422T180614Z
URL:https://business.reidsvillechamber.org/events/details/bowl-a-thon-for-adts-10-18-2014-2917
END:VEVENT

END:VCALENDAR
