BEGIN:VCALENDAR
VERSION:2.0
PRODID:-//ChamberMaster//Event Calendar 2.0//EN
METHOD:PUBLISH
X-PUBLISHED-TTL:P3D
REFRESH-INTERVAL:P3D
CALSCALE:GREGORIAN
BEGIN:VEVENT
DTSTART:20111015T130000Z
DTEND:20111015T140000Z
X-MICROSOFT-CDO-ALLDAYEVENT:FALSE
SUMMARY:Breakfast with Mickey Mouse & Friends
DESCRIPTION:For children of all ages\, (must be accompanied by an adult)\, join Mickey and friends for a fun-filled hour which will include a great breakfast for a good cause. The Annie Penn Hospital United Way Committee will sponsor this fundraising event on October 15th\, from 9:00   10:00 a.m. in the hospital cafeteria. Cost is $10 per person\, and proceeds will support the Annie Penn United Way campaign effort. For ticket information\, please call 951-4628.
X-ALT-DESC;FMTTYPE=text/html:<span style="font-size: 11pt\; font-family: calibri\; mso-fareast-font-family: 'times new roman'\; mso-bidi-font-family: 'courier new'\; mso-ansi-language: en-us\; mso-fareast-language: en-us\; mso-bidi-language: ar-sa"><font color="#000000" face="Times New Roman">For children of all ages\, (must be accompanied by an adult)\, join Mickey and friends for a fun-filled hour which will include a great breakfast for a good cause. The Annie Penn Hospital United Way Committee will<b style="mso-bidi-font-weight: normal"> </b>sponsor this fundraising event on<b style="mso-bidi-font-weight: normal"> October 15<sup>th</sup>\, </b>from 9:00 &ndash\; 10:00 a.m. in the hospital cafeteria. Cost is $10 per person\, and proceeds will support the Annie Penn United Way campaign effort. For ticket information\, please call 951-4628.</font></span>
LOCATION:Annie Penn Hospital
UID:e.111.2036
SEQUENCE:3
DTSTAMP:20260423T091032Z
URL:https://business.reidsvillechamber.org/events/details/breakfast-with-mickey-mouse-friends-10-15-2011-2036
END:VEVENT

END:VCALENDAR
