BEGIN:VCALENDAR
VERSION:2.0
PRODID:-//ChamberMaster//Event Calendar 2.0//EN
METHOD:PUBLISH
X-PUBLISHED-TTL:P3D
REFRESH-INTERVAL:P3D
CALSCALE:GREGORIAN
BEGIN:VEVENT
DTSTART:20100429T213000Z
DTEND:20100429T230000Z
X-MICROSOFT-CDO-ALLDAYEVENT:FALSE
SUMMARY:Business After-hours at Oakhaven Farms
DESCRIPTION:Celebrate Spring at the Chamber Business After-hourshosted byOakhaven Farms1375 Dibrell Road\, Pelham15 minutes from downtown Reidsville just off US 29 Bypass Thursday\, April 29th5:30-7:00 p.m.wine\, music\, food & fun Oakhaven Farms is a destination for weddings\, special events\, hunting\, fishing and horesback riding
X-ALT-DESC;FMTTYPE=text/html:<div style="text-align: center"><span style="font-size: medium">Celebrate Spring at the Chamber Business After-hours</span></div><div style="text-align: center"><span style="font-size: medium">hosted by</span></div><div style="text-align: center"><span style="font-size: medium"><span style="font-size: large">Oakhaven Farms</span></span></div><div style="text-align: center"><span style="font-size: medium"><span style="font-size: large">1375 Dibrell Road\, Pelham</span></span></div><div style="text-align: center"><span style="font-size: small"><span><span>15 minutes from downtown Reidsville just off US 29 Bypass</span></span></span></div><div style="text-align: center">&nbsp\;</div><div style="text-align: center"><span style="font-size: small"><span><span><span style="font-size: medium">Thursday\, April 29th</span></span></span></span></div><div style="text-align: center"><span style="font-size: small"><span><span><span style="font-size: medium">5:30-7:00 p.m.</span></span></span></span></div><div style="text-align: center"><span style="font-size: small"><span><span><span style="font-size: medium">wine\, music\, food &amp\; fun</span></span></span></span></div><div style="text-align: center">&nbsp\;</div><div style="text-align: center"><span style="font-size: small"><span><span>Oakhaven Farms is a destination for weddings\, special events\, hunting\, fishing and horesback riding</span></span></span></div><div style="text-align: center">&nbsp\;</div>
LOCATION:
UID:e.111.1363
SEQUENCE:3
DTSTAMP:20260424T132527Z
URL:https://business.reidsvillechamber.org/events/details/business-after-hours-at-oakhaven-farms-04-29-2010-1363
END:VEVENT

END:VCALENDAR
