BEGIN:VCALENDAR
VERSION:2.0
PRODID:-//ChamberMaster//Event Calendar 2.0//EN
METHOD:PUBLISH
X-PUBLISHED-TTL:P3D
REFRESH-INTERVAL:P3D
CALSCALE:GREGORIAN
BEGIN:VEVENT
DTSTART:20100610T213000Z
DTEND:20100610T230000Z
X-MICROSOFT-CDO-ALLDAYEVENT:FALSE
SUMMARY:Business After-hours hosted by BeautiControl/Linda Warren
DESCRIPTION:Join us for a Reidsville Chamber of Commerce  Business After-hours hosted by BeautiControl consultant Linda Warren281 Cross Key RdReidsville\, NC Join us for networking\, a tour of the spa\, and a chance to unwind with food\, beverages\, and friends Directions:  Richardson Dr/Hwy 158W bear left onto Fairview Church Road (just before Monroeton Golf Course)Turn left on Cross Key Rd\, Spa is .8 miles on left
X-ALT-DESC;FMTTYPE=text/html:<div style="text-align: center"><span style="font-size: medium"><span style="font-family: Verdana">Join us for a Reidsville Chamber of Commerce&nbsp\;</span></span></div><div style="text-align: center"><span style="font-size: medium"><span style="font-family: Verdana">&nbsp\;Business After-hours</span></span></div><div style="text-align: center">&nbsp\;</div><div style="text-align: center"><span style="font-size: medium"><span style="font-family: Verdana">hosted by BeautiControl consultant Linda Warren</span></span></div><div style="text-align: center"><span style="font-size: medium"><span style="font-family: Verdana">281 Cross Key Rd</span></span></div><div style="text-align: center"><span style="font-size: medium"><span style="font-family: Verdana">Reidsville\, NC</span></span></div><div style="text-align: center">&nbsp\;</div><div style="text-align: center"><span style="font-size: medium"><span style="font-family: Verdana">Join us for networking\, a tour of the spa\, and&nbsp\;a chance to unwind with food\, beverages\, and friends</span></span></div><div style="text-align: center">&nbsp\;</div><div style="text-align: center"><span style="font-size: medium"><span style="font-family: Verdana">Directions:&nbsp\; Richardson Dr/Hwy 158W&nbsp\;bear&nbsp\;left onto Fairview Church Road (just before Monroeton Golf Course)</span></span></div><div style="text-align: center"><span style="font-size: medium"><span style="font-family: Verdana">Turn left on Cross&nbsp\;Key Rd\, Spa is .8 miles on left</span></span></div><div style="text-align: center">&nbsp\;</div>
LOCATION:
UID:e.111.1341
SEQUENCE:3
DTSTAMP:20260424T213725Z
URL:https://business.reidsvillechamber.org/events/details/business-after-hours-hosted-by-beauticontrol-linda-warren-06-10-2010-1341
END:VEVENT

END:VCALENDAR
