BEGIN:VCALENDAR
VERSION:2.0
PRODID:-//ChamberMaster//Event Calendar 2.0//EN
METHOD:PUBLISH
X-PUBLISHED-TTL:P3D
REFRESH-INTERVAL:P3D
CALSCALE:GREGORIAN
BEGIN:VEVENT
DTSTART:20100520T213000Z
DTEND:20100520T230000Z
X-MICROSOFT-CDO-ALLDAYEVENT:FALSE
SUMMARY:Business After-hours hosted by Betsy-Jeff Penn 4-H Center
DESCRIPTION:Betsy-Jeff Penn 4-H CenterInvites you to attend aCounty -Wide Chamber of Commerce After-HoursAndRibbon Cuttingfor the New Swimming Pool & Bath House Thursday\, May 20\, 20105:30 - 7:00 pm Wagoner LearningCenterBetsy-Jeff Penn 4-H Center804 Cedar LaneReidsville\, NC27320  RSVP by May 14\, 2010Judy Wall (336) 342-4386 or computethis@triad.rr.com For accommodations for persons with disabilities\, contact Judy Wall no later than five business days before the event.
X-ALT-DESC;FMTTYPE=text/html:<div style="text-align: left"><p class="MsoNormal" style="margin: 0in 0in 0pt\; text-align: center\; mso-layout-grid-align: none"><b style="mso-bidi-font-weight: normal"><span style="font-size: 18pt"><font face="Times New Roman">Betsy-Jeff Penn 4-H Center<o:p></o:p></font></span></b></p><p class="MsoNormal" style="margin: 0in 0in 0pt\; text-align: center\; mso-layout-grid-align: none"><span style="font-size: 16pt"><font face="Times New Roman">Invites you to attend a<o:p></o:p></font></span></p><p class="MsoNormal" style="margin: 0in 0in 0pt\; text-align: center\; mso-layout-grid-align: none"><b style="mso-bidi-font-weight: normal"><span style="font-size: 18pt"><font face="Times New Roman">County -Wide Chamber of Commerce After-Hours<o:p></o:p></font></span></b></p><p class="MsoNormal" style="margin: 0in 0in 0pt\; text-align: center\; mso-layout-grid-align: none"><b style="mso-bidi-font-weight: normal"><span style="font-size: 18pt"><font face="Times New Roman">And<o:p></o:p></font></span></b></p><p class="MsoNormal" style="margin: 0in 0in 0pt\; text-align: center\; mso-layout-grid-align: none"><b style="mso-bidi-font-weight: normal"><span style="font-size: 18pt"><font face="Times New Roman">Ribbon Cutting<o:p></o:p></font></span></b></p><p class="MsoNormal" style="margin: 0in 0in 0pt\; text-align: center\; mso-layout-grid-align: none"><b style="mso-bidi-font-weight: normal"><span style="font-size: 18pt"><font face="Times New Roman">for the New Swimming Pool &amp\; Bath House</font></span></b></p><p class="MsoNormal" style="margin: 0in 0in 0pt\; text-align: center\; mso-layout-grid-align: none"><b style="mso-bidi-font-weight: normal"><span style="font-size: 18pt"><font face="Times New Roman"><o:p></o:p></font></span></b>&nbsp\;</p><p class="MsoNormal" style="margin: 0in 0in 0pt\; text-align: center\; mso-layout-grid-align: none"><span style="font-size: 16pt\; font-family: TTE1F903C8t00\; mso-bidi-font-family: TTE1F903C8t00"><font face="Times New Roman">Thursday\, May 20\, 2010<o:p></o:p></font></span></p><p class="MsoNormal" style="margin: 0in 0in 0pt\; text-align: center\; mso-layout-grid-align: none"><span style="font-size: 16pt\; font-family: TTE1F903C8t00\; mso-bidi-font-family: TTE1F903C8t00"><font face="Times New Roman">5:30 - 7:00 pm</font></span></p><p class="MsoNormal" style="margin: 0in 0in 0pt\; text-align: center\; mso-layout-grid-align: none"><span style="font-size: 16pt\; font-family: TTE1F903C8t00\; mso-bidi-font-family: TTE1F903C8t00"><font face="Times New Roman"><o:p></o:p></font></span>&nbsp\;</p><p class="MsoNormal" style="margin: 0in 0in 0pt\; text-align: center\; mso-layout-grid-align: none"><font face="Times New Roman"><st1:place w:st="on"><st1:placename w:st="on"><span style="font-size: medium"><span style="font-family: TTE1F903C8t00\; mso-bidi-font-family: TTE1F903C8t00">Wagoner</span></span></st1:placename><span style="font-size: medium"><span style="font-family: TTE1F903C8t00\; mso-bidi-font-family: TTE1F903C8t00"> </span></span><span style="font-size: 16pt\; font-family: TTE1F903C8t00\; mso-bidi-font-family: TTE1F903C8t00"><st1:placename w:st="on"><span style="font-size: medium">Learning</span></st1:placename><st1:placetype w:st="on"><span style="font-size: medium">Center</span></st1:placetype></span></st1:place></font></p><span style="font-size: medium"><p class="MsoNormal" style="margin: 0in 0in 0pt\; text-align: center\; mso-layout-grid-align: none"><font face="Times New Roman"><span style="font-family: TTE1F903C8t00\; mso-bidi-font-family: TTE1F903C8t00"><o:p></o:p></span></font></p><p class="MsoNormal" style="margin: 0in 0in 0pt\; text-align: center\; mso-layout-grid-align: none"><span style="font-family: TTE1F903C8t00\; mso-bidi-font-family: TTE1F903C8t00"><font face="Times New Roman">Betsy-Jeff Penn 4-H Center</font></span></p></span><p class="MsoNormal" style="margin: 0in 0in 0pt\; text-align: center\; mso-layout-grid-align: none"><span style="font-size: 16pt\; font-family: TTE1F903C8t00\; mso-bidi-font-family: TTE1F903C8t00"><font face="Times New Roman"><o:p></o:p></font></span></p><p class="MsoNormal" style="margin: 0in 0in 0pt\; text-align: center\; mso-layout-grid-align: none"><span style="font-size: medium"><font face="Times New Roman"><st1:street w:st="on"><st1:address w:st="on"><span style="font-family: TTE1F903C8t00\; mso-bidi-font-family: TTE1F903C8t00">804 Cedar Lane</span></st1:address></st1:street></font></span><font face="Times New Roman"><st1:street w:st="on"><st1:address w:st="on"></st1:address></st1:street></font></p><p class="MsoNormal" style="margin: 0in 0in 0pt\; text-align: center\; mso-layout-grid-align: none"><span style="font-size: medium"><font face="Times New Roman"><st1:street w:st="on"><st1:address w:st="on"></st1:address></st1:street></font></span><font face="Times New Roman"><span style="font-size: 16pt\; font-family: TTE1F903C8t00\; mso-bidi-font-family: TTE1F903C8t00"><o:p></o:p></span></font></p><p class="MsoNormal" style="margin: 0in 0in 0pt\; text-align: center\; mso-layout-grid-align: none"><span style="font-size: medium"><font face="Times New Roman"><st1:place w:st="on"><st1:city w:st="on"><span style="font-family: TTE1F903C8t00\; mso-bidi-font-family: TTE1F903C8t00">Reidsville</span></st1:city></st1:place></font></span><font face="Times New Roman"><st1:place w:st="on"><st1:city w:st="on"></st1:city><span style="font-size: medium"><span style="font-family: TTE1F903C8t00\; mso-bidi-font-family: TTE1F903C8t00">\, </span></span><span style="font-size: 16pt\; font-family: TTE1F903C8t00\; mso-bidi-font-family: TTE1F903C8t00"><st1:state w:st="on"><span style="font-size: medium">NC</span></st1:state><st1:postalcode w:st="on"><span style="font-size: medium">27320</span></st1:postalcode></span></st1:place><span style="font-size: 16pt\; font-family: TTE1F903C8t00\; mso-bidi-font-family: TTE1F903C8t00"><o:p></o:p></span></font></p><span id="1272052565780E" style="display: none">&nbsp\;</span> <p class="MsoNormal" style="margin: 0in 0in 0pt\; mso-layout-grid-align: none"><span style="font-size: 16pt\; font-family: TTE1F903C8t00\; mso-bidi-font-family: TTE1F903C8t00"><font face="Times New Roman">RSVP by May 14\, 2010<o:p></o:p></font></span></p><p class="MsoNormal" style="margin: 0in 0in 0pt\; mso-layout-grid-align: none"><span style="font-size: 16pt\; font-family: TTE1F903C8t00\; mso-bidi-font-family: TTE1F903C8t00"><font face="Times New Roman">Judy Wall (336) 342-4386 or computethis@triad.rr.com<o:p></o:p></font></span></p><p class="MsoNormal" style="margin: 0in 0in 0pt\; mso-layout-grid-align: none">&nbsp\;</p><p class="MsoNormal" style="margin: 0in 0in 0pt\; text-align: center\; mso-layout-grid-align: none"><span style="font-size: small"><span style="font-family: TTE1F903C8t00\; mso-bidi-font-family: TTE1F903C8t00"><font face="Times New Roman">For accommodations for persons with disabilities\, contact Judy Wall no later than five </font></span><span style="font-family: TTE1F903C8t00\; mso-bidi-font-family: TTE1F903C8t00"><font face="Times New Roman">business days before the event.</font></span></span></p></div>
LOCATION:
UID:e.111.1315
SEQUENCE:3
DTSTAMP:20260424T133549Z
URL:https://business.reidsvillechamber.org/events/details/business-after-hours-hosted-by-betsy-jeff-penn-4-h-center-05-20-2010-1315
END:VEVENT

END:VCALENDAR
