BEGIN:VCALENDAR
VERSION:2.0
PRODID:-//ChamberMaster//Event Calendar 2.0//EN
METHOD:PUBLISH
X-PUBLISHED-TTL:P3D
REFRESH-INTERVAL:P3D
CALSCALE:GREGORIAN
BEGIN:VEVENT
DTSTART:20110628T213000Z
DTEND:20110628T230000Z
X-MICROSOFT-CDO-ALLDAYEVENT:FALSE
SUMMARY:Business After Hours Hosted by Sagebrush Steakhouse
DESCRIPTION:Business After Hours Hosted by Sagebrush Steakhouse\n\n\n	Please join the Chamber of Commerce\n\n	and\n\n	Sagebrush Steakhouse\n\n	 \n\n	for a Business After Hours\n\n	on Tuesday\, June 28\, 2011\n\n	at 5:30 pm\n\n	 \n                                                              1529 Freeway Drive
X-ALT-DESC;FMTTYPE=text/html:&nbsp\; &nbsp\; &nbsp\; &nbsp\; &nbsp\; &nbsp\; &nbsp\; &nbsp\; &nbsp\; &nbsp\; &nbsp\;&nbsp\;&nbsp\; &nbsp\; &nbsp\;&nbsp\;&nbsp\; &nbsp\; &nbsp\;&nbsp\; Business After Hours Hosted by Sagebrush Steakhouse<br />\n<div style="text-align: center\;">\n	<span style="font-size: medium\;">Please join the <span class="yshortcuts" id="lw_1305061764_1" style="cursor: pointer\; background: none repeat scroll 0% 0% transparent\;">Chamber of Commerce</span></span></div>\n<div style="text-align: center\;">\n	<span style="font-size: small\;">and</span></div>\n<div style="text-align: center\;">\n	<span style="font-size: medium\;"><span class="yshortcuts" id="lw_1305061764_2" style="border-bottom: 2px dotted rgb(54\, 99\, 136)\; cursor: pointer\;">Sagebrush Steakhouse</span></span></div>\n<div style="text-align: center\;">\n	&nbsp\;</div>\n<div style="text-align: center\;">\n	<span style="font-size: small\;">for a Business After Hours</span></div>\n<div style="text-align: center\;">\n	<span style="font-size: small\;">on Tuesday\, June 28\, 2011</span></div>\n<div style="text-align: center\;">\n	<span style="font-size: small\;">at 5:30 pm</span></div>\n<div style="text-align: center\;">\n	&nbsp\;</div>\n&nbsp\;&nbsp\;&nbsp\;&nbsp\;&nbsp\;&nbsp\;&nbsp\;&nbsp\;&nbsp\;&nbsp\;&nbsp\;&nbsp\;&nbsp\;&nbsp\;&nbsp\;&nbsp\;&nbsp\;&nbsp\;&nbsp\;&nbsp\;&nbsp\;&nbsp\;&nbsp\;&nbsp\;&nbsp\;&nbsp\;&nbsp\;&nbsp\;&nbsp\;&nbsp\;&nbsp\;&nbsp\;&nbsp\;&nbsp\;&nbsp\;&nbsp\;&nbsp\;&nbsp\;&nbsp\;&nbsp\;&nbsp\;&nbsp\;&nbsp\;&nbsp\;&nbsp\;&nbsp\;&nbsp\;&nbsp\;&nbsp\;&nbsp\;&nbsp\;&nbsp\;&nbsp\;&nbsp\;&nbsp\;&nbsp\;&nbsp\;&nbsp\;&nbsp\;&nbsp\;&nbsp\; 1529 Freeway Drive
LOCATION:
UID:e.111.1921
SEQUENCE:3
DTSTAMP:20260423T152136Z
URL:https://business.reidsvillechamber.org/events/details/business-after-hours-hosted-by-sagebrush-steakhouse-06-28-2011-1921
END:VEVENT

END:VCALENDAR
