BEGIN:VCALENDAR
VERSION:2.0
PRODID:-//ChamberMaster//Event Calendar 2.0//EN
METHOD:PUBLISH
X-PUBLISHED-TTL:P3D
REFRESH-INTERVAL:P3D
CALSCALE:GREGORIAN
BEGIN:VEVENT
DTSTART;VALUE=DATE:20091001
DTEND;VALUE=DATE:20091002
TRANSP:TRANSPARENT
X-MICROSOFT-CDO-ALLDAYEVENT:TRUE
SUMMARY:Business Showcase
DESCRIPTION:Reidsville Chamber of Commercepresents the 2009 Business Showcasesponsored by BB&T 1550 Freeway DriveFormer A&H Wayside Furniture across from Goodwillnoon-6pm Over 40 businesses...Red Cross Blood bus on site....flu shots on site....pet adoption center on site...door prizes and cash prizes!
X-ALT-DESC;FMTTYPE=text/html:<div style="text-align: center"><span style="font-size: medium">Reidsville Chamber of Commerce</span></div><div style="text-align: center">presents the</div><div style="text-align: center">&nbsp\;</div><div style="text-align: center"><span style="color: #800000"><strong><em><span style="font-size: x-large">2009 Business Showcase</span></em></strong></span></div><div style="text-align: center"><font size="5">sponsored by BB&amp\;T</font></div><div style="text-align: center">&nbsp\;</div><div style="text-align: center"><font size="5">1550 Freeway Drive</font></div><div style="text-align: center"><font size="5"><span style="font-size: small">Former A&amp\;H Wayside Furniture across from Goodwill</span></font></div><div style="text-align: center"><font size="5">noon-6pm</font></div><div style="text-align: center">&nbsp\;</div><div style="text-align: center"><font size="5">Over 40 businesses...Red Cross Blood bus on site....flu shots on site....pet adoption center on site...door prizes and cash prizes!</font></div><div>&nbsp\;</div>
LOCATION:1550 Freeway Driveformer A&H Wayside Furniture (across from Goodwill Industries)
UID:e.111.1173
SEQUENCE:3
DTSTAMP:20260424T232700Z
URL:https://business.reidsvillechamber.org/events/details/business-showcase-10-01-2009-1173
END:VEVENT

END:VCALENDAR
