BEGIN:VCALENDAR
VERSION:2.0
PRODID:-//ChamberMaster//Event Calendar 2.0//EN
METHOD:PUBLISH
X-PUBLISHED-TTL:P3D
REFRESH-INTERVAL:P3D
CALSCALE:GREGORIAN
BEGIN:VEVENT
DTSTART:20091022T160000Z
DTEND:20091022T210000Z
X-MICROSOFT-CDO-ALLDAYEVENT:FALSE
SUMMARY:Business Showcase
DESCRIPTION:Reidsville Chamber of Commercepresents the 2010 Business Showcasesponsored by Home Savings Bank  noon-5pm Over 40 businesses...Red Cross Blood bus on site....flu shots on site....pet adoption center on site...door prizes and cash prizes!
X-ALT-DESC;FMTTYPE=text/html:<div style="text-align: center"><span style="font-size: medium">Reidsville Chamber of Commerce</span></div><div style="text-align: center">presents the</div><div style="text-align: center">&nbsp\;</div><div style="text-align: center"><span style="color: #800000"><strong><em><span style="font-size: x-large">2010 Business Showcase</span></em></strong></span></div><div style="text-align: center"><font size="5">sponsored by Home Savings Bank</font></div><div style="text-align: center">&nbsp\;</div><div style="text-align: center"><div style="text-align: center">&nbsp\;</div><font size="5">noon-5pm</font></div><div style="text-align: center">&nbsp\;</div><div style="text-align: center"><font size="5">Over 40 businesses...Red Cross Blood bus on site....flu shots on site....pet adoption center on site...door prizes and cash prizes!</font></div><div>&nbsp\;</div>
LOCATION:
UID:e.111.1480
SEQUENCE:3
DTSTAMP:20260424T232706Z
URL:https://business.reidsvillechamber.org/events/details/business-showcase-10-22-2009-1480
END:VEVENT

END:VCALENDAR
