BEGIN:VCALENDAR
VERSION:2.0
PRODID:-//ChamberMaster//Event Calendar 2.0//EN
METHOD:PUBLISH
X-PUBLISHED-TTL:P3D
REFRESH-INTERVAL:P3D
CALSCALE:GREGORIAN
BEGIN:VEVENT
DTSTART:20100605T140000Z
DTEND:20100605T160000Z
X-MICROSOFT-CDO-ALLDAYEVENT:FALSE
SUMMARY:CANCELED! ''Help My Business Make and Save Money'' presented by the RC IT Coalit
DESCRIPTION:The IT Professionals Coalition of Rockingham County will sponsor a forum on June 5th called "Help My Business Make and Save Money". This forum will feature local small businesses who are utilizing different technologies to reach customers and save money. It will also feature members of the IT Coalition Core Planning Group who will serve as technical advisors for attendees who have more in-depth questions. Registration for the forum can be done through a survey at:  http://www.surveymonkey.com/s/Help_My_Business This survey will give us a better idea of the specific needs of local businesses and help us concentrate of the areas you are most interested in learning about. This forum is open to anyone in business or thinking about starting a business who is interested in learning how technology can help grow your business. Registration is free\, but space is limited\, so please register today. Thank you and we look forward to seeing you at the forum!  Jon Jones\, Technology Coordinator\nRockingham County Business & Technology Center\n(P) 336.342.7853     (F) 336.342.7856\njjones@rcbtc.org     www.rcbtc.org
X-ALT-DESC;FMTTYPE=text/html:<div><p class="MsoNormal">The IT Professionals Coalition of Rockingham County will sponsor a forum on June 5th called &ldquo\;Help My Business Make and Save Money&rdquo\;. This forum will feature local small businesses who are utilizing different technologies to reach customers and save money. It will also feature members of the IT Coalition Core Planning Group who will serve as technical advisors for attendees who have more in-depth questions. Registration for the forum can be done through a survey at: <o:p></o:p></p><p class="MsoNormal"><o:p>&nbsp\;</o:p><a title="blocked::http://www.surveymonkey.com/s/Help_My_Business" href="http://www.surveymonkey.com/s/Help_My_Business">http://www.surveymonkey.com/s/Help_My_Business</a><o:p></o:p></p><p class="MsoNormal"><o:p>&nbsp\;</o:p>This survey will give us a better idea of the specific needs of local businesses and help us concentrate of the areas you are most interested in learning about. This forum is open to anyone in business or thinking about starting a business who is interested in learning how technology can help grow your business. Registration is free\, but space is limited\, so please register today.<o:p></o:p></p><p class="MsoNormal"><o:p>&nbsp\;</o:p>Thank you and we look forward to seeing you at the forum!<o:p></o:p></p><p class="MsoNormal" style="text-align: center"><o:p>&nbsp\;</o:p><o:p></o:p><span style="font-size: 10pt\; font-family: &rsquo\;Arial&rsquo\;\,&rsquo\;sans-serif&rsquo\;"><o:p>&nbsp\;</o:p></span></p><p class="MsoNormal" style="text-align: center"><span style="font-size: 10pt\; font-family: &rsquo\;Arial&rsquo\;\,&rsquo\;sans-serif&rsquo\;"><o:p></o:p></span><span style="font-size: 10pt\; font-family: &rsquo\;Tahoma&rsquo\;\,&rsquo\;sans-serif&rsquo\;">Jon Jones\,&nbsp\;Technology Coordinator<br />Rockingham County Business &amp\; Technology Center<br />(P) 336.342.7853&nbsp\;&nbsp\;&nbsp\;&nbsp\; (F) 336.342.7856<br /><a title="blocked::mailto:jjones@rcbtc.org" href="mailto:jjones@rcbtc.org"><span title="blocked::mailto:jjones@rcbtc.org" style="color: blue">jjones@rcbtc.org</span></a>&nbsp\;&nbsp\;&nbsp\;&nbsp\; </span><a title="blocked::http://www.rcbtc.org/" href="http://www.rcbtc.org/"><span title="blocked::http://www.rcbtc.org/" style="font-size: 10pt\; color: blue\; font-family: &rsquo\;Tahoma&rsquo\;\,&rsquo\;sans-serif&rsquo\;">www.rcbtc.org</span></a><o:p></o:p></p><p class="MsoNormal" style="text-align: center"><o:p>&nbsp\;</o:p></p></div>
LOCATION:
UID:e.111.1361
SEQUENCE:3
DTSTAMP:20260424T114321Z
URL:https://business.reidsvillechamber.org/events/details/canceled-help-my-business-make-and-save-money-presented-by-the-rc-it-coalit-06-05-2010-1361
END:VEVENT

END:VCALENDAR
