BEGIN:VCALENDAR
VERSION:2.0
PRODID:-//ChamberMaster//Event Calendar 2.0//EN
METHOD:PUBLISH
X-PUBLISHED-TTL:P3D
REFRESH-INTERVAL:P3D
CALSCALE:GREGORIAN
BEGIN:VEVENT
DTSTART;VALUE=DATE:20101023
DTEND;VALUE=DATE:20101024
TRANSP:TRANSPARENT
X-MICROSOFT-CDO-ALLDAYEVENT:TRUE
SUMMARY:Cancer Awareness Day at Oakhaven Farms
DESCRIPTION:Join Oakhaven Farms and the American Cancer Society for Cancer Awareness Day.  $1 from each admission to the Corntacular Adventure will be donated to the American Cancer Society\; come out and have some fun while doing good!
X-ALT-DESC;FMTTYPE=text/html:Join Oakhaven Farms and the American Cancer Society for Cancer Awareness Day.  $1 from each admission to the Corntacular Adventure will be donated to the American Cancer Society\; come out and have some fun while doing good!  
LOCATION:Oakhaven Farms\, 1434 Dibrell Rd Pelham\, NC 27311
UID:e.111.1528
SEQUENCE:3
DTSTAMP:20260424T040450Z
URL:https://business.reidsvillechamber.org/events/details/cancer-awareness-day-at-oakhaven-farms-10-23-2010-1528
END:VEVENT

END:VCALENDAR
