BEGIN:VCALENDAR
VERSION:2.0
PRODID:-//ChamberMaster//Event Calendar 2.0//EN
METHOD:PUBLISH
X-PUBLISHED-TTL:P3D
REFRESH-INTERVAL:P3D
CALSCALE:GREGORIAN
BEGIN:VEVENT
DTSTART:20090924T223000Z
DTEND:20090925T010000Z
X-MICROSOFT-CDO-ALLDAYEVENT:FALSE
SUMMARY:Candidate's Forum-Reidsville City Council Elections
DESCRIPTION:Join us to meet the candidates at 6:30 with a questions and answers beginning at 7:00.  Candidates for Mayor and at-large council seats will be present.   Sponsored by the Reidsville Chamber of Commerce
X-ALT-DESC;FMTTYPE=text/html:<div style="text-align: center"><span style="font-size: medium"><span style="font-family: Comic Sans MS">Join us to meet the candidates at 6:30 with a questions and answers beginning at 7:00.&nbsp\; Candidates for Mayor and at-large council seats will be present.&nbsp\; </span></span></div><div style="text-align: center">&nbsp\;</div><div style="text-align: center"><span style="font-size: medium"><span style="font-family: Comic Sans MS">Sponsored by the Reidsville Chamber of Commerce</span></span></div>
LOCATION:513 S. Main StreetChamber of Commerce offices
UID:e.111.1210
SEQUENCE:3
DTSTAMP:20260425T024457Z
URL:https://business.reidsvillechamber.org/events/details/candidate-s-forum-reidsville-city-council-elections-09-24-2009-1210
END:VEVENT

END:VCALENDAR
