BEGIN:VCALENDAR
VERSION:2.0
PRODID:-//ChamberMaster//Event Calendar 2.0//EN
METHOD:PUBLISH
X-PUBLISHED-TTL:P3D
REFRESH-INTERVAL:P3D
CALSCALE:GREGORIAN
BEGIN:VEVENT
DTSTART:20141024T210000Z
DTEND:20141025T010000Z
X-MICROSOFT-CDO-ALLDAYEVENT:FALSE
SUMMARY:Candidates Forum
DESCRIPTION:Three Chambers of Commerce\n\nHost Candidates Forum!!\n\n\n\nOctober 24th at 5:00 PM\n\n\n\nReidsville Event Center\n\n223 S. Scales Street\n\nReidsville\, NC 27320\n\n\n\nThis event is sponsored by the Eden\, Reidsville\, and Western Rockingham\n\nChambers of Commerce\n\n\n\nThe forum will include an invitation to all candidates vying for county\, state\,\n\nand national offices who will be competing in the election to be held on November 4\, 2014.\n\n The forum will be open to the public and the community is encouraged to attend.
X-ALT-DESC;FMTTYPE=text/html:<p style="text-align: center">Three Chambers of Commerce<br />\nHost Candidates Forum!!<br />\n<br />\nOctober 24th at 5:00 PM<br />\n<br />\nReidsville Event Center<br />\n223 S. Scales Street<br />\nReidsville\, NC 27320<br />\n<br />\nThis event is sponsored by the Eden\, Reidsville\, and Western Rockingham<br />\nChambers of Commerce<br />\n<br />\nThe forum will include an invitation to all candidates vying for county\, state\,<br />\nand national offices who will be competing in the election to be held on November 4\, 2014.<br />\n&nbsp\;The forum will be open to the public&nbsp\;and the community is encouraged to attend.<br />\n<br />\n&nbsp\;</p>\n
LOCATION:
UID:e.111.2942
SEQUENCE:3
DTSTAMP:20260422T180614Z
URL:https://business.reidsvillechamber.org/events/details/candidates-forum-10-24-2014-2942
END:VEVENT

END:VCALENDAR
