BEGIN:VCALENDAR
VERSION:2.0
PRODID:-//ChamberMaster//Event Calendar 2.0//EN
METHOD:PUBLISH
X-PUBLISHED-TTL:P3D
REFRESH-INTERVAL:P3D
CALSCALE:GREGORIAN
BEGIN:VEVENT
DTSTART:20101012T220000Z
DTEND:20101013T010000Z
X-MICROSOFT-CDO-ALLDAYEVENT:FALSE
SUMMARY:Candidates' Forum-Rockingham County
DESCRIPTION:Tuesday\, October 12\n\n	6:00 pm\n\n	Candidates Forum\n\n	RCC Auditorium (in Advanced Technologies Building)\n\n	Meet and hear candidates for:\n\n	Rockingham County School Board (at large seats)\n\n	Rockingham County Sheriff\n\n	Rockingham County Board of Commissioners\n\n	NC House Districts   65th and 91st
X-ALT-DESC;FMTTYPE=text/html:<p align="center" style="text-align: center">\n	<font size="3"><font color="#000000"><strong>Tuesday\, October 12</strong><br />\n	6:00 pm<br />\n	Candidates Forum<br />\n	RCC Auditorium (in Advanced Technologies Building)<br />\n	Meet and hear candidates for:<br />\n	Rockingham County School Board (at large seats)<br />\n	Rockingham County Sheriff<br />\n	Rockingham County Board of Commissioners<br />\n	NC House Districts &ndash\; 65th and 91st</font></font></p>\n
LOCATION:
UID:e.111.1515
SEQUENCE:3
DTSTAMP:20260424T053044Z
URL:https://business.reidsvillechamber.org/events/details/candidates-forum-rockingham-county-10-12-2010-1515
END:VEVENT

END:VCALENDAR
