BEGIN:VCALENDAR
VERSION:2.0
PRODID:-//ChamberMaster//Event Calendar 2.0//EN
METHOD:PUBLISH
X-PUBLISHED-TTL:P3D
REFRESH-INTERVAL:P3D
CALSCALE:GREGORIAN
BEGIN:VEVENT
DTSTART:20110219T140000Z
DTEND:20110219T200000Z
X-MICROSOFT-CDO-ALLDAYEVENT:FALSE
SUMMARY:CareGivers Bowl-a-Thon @ Reidsville Lanes (14th Annual)
DESCRIPTION:*** Click Here for Bowl-a-Thon informational Flyer ***
X-ALT-DESC;FMTTYPE=text/html:<br />\n<br />\n<br />\n<span style="color: rgb(0\, 0\, 255)\;"><span style="font-size: 14px\;"><a href="http://cloud.chambermaster.com/userfiles/UserFiles/chambers/111/File/Bowl-A-Thon%202011%20newspaper%20ad.pdf"><strong>*** Click Here</strong> for <strong><em>Bowl-a-Thon</em></strong> informational Flyer ***</a></span></span><span style="font-size: 14px\;"></span>
LOCATION:
UID:e.111.1587
SEQUENCE:3
DTSTAMP:20260423T213401Z
URL:https://business.reidsvillechamber.org/events/details/caregivers-bowl-a-thon-reidsville-lanes-14th-annual-02-19-2011-1587
END:VEVENT

END:VCALENDAR
