BEGIN:VCALENDAR
VERSION:2.0
PRODID:-//ChamberMaster//Event Calendar 2.0//EN
METHOD:PUBLISH
X-PUBLISHED-TTL:P3D
REFRESH-INTERVAL:P3D
CALSCALE:GREGORIAN
BEGIN:VEVENT
DTSTART:20101005T140000Z
DTEND:20101005T170000Z
X-MICROSOFT-CDO-ALLDAYEVENT:FALSE
SUMMARY:Carolina Apothecary - MediCool Breast Form Event
DESCRIPTION:BodiCool Event. Come experience a new\, totally different\, totally cool breast form!
X-ALT-DESC;FMTTYPE=text/html:BodiCool Event. Come experience a new\, totally different\, totally cool breast form!
LOCATION:Carolina Apothecary 726 S. Scales Street\, Reidsville
UID:e.111.1512
SEQUENCE:3
DTSTAMP:20260424T035856Z
URL:https://business.reidsvillechamber.org/events/details/carolina-apothecary-medicool-breast-form-event-10-05-2010-1512
END:VEVENT

END:VCALENDAR
