BEGIN:VCALENDAR
VERSION:2.0
PRODID:-//ChamberMaster//Event Calendar 2.0//EN
METHOD:PUBLISH
X-PUBLISHED-TTL:P3D
REFRESH-INTERVAL:P3D
CALSCALE:GREGORIAN
BEGIN:VEVENT
DTSTART:20101005T183000Z
DTEND:20101005T203000Z
X-MICROSOFT-CDO-ALLDAYEVENT:FALSE
SUMMARY:Carolina Apothecary MediCool Breast Form Event
DESCRIPTION:BodiCool Event. Come experience a new\, totally different\, totally cool breast form!
X-ALT-DESC;FMTTYPE=text/html:BodiCool Event. Come experience a new\, totally different\, totally cool breast form!
LOCATION:Carolina Apothecary 238 W. Kings Hwy\, Eden
UID:e.111.1513
SEQUENCE:3
DTSTAMP:20260424T035958Z
URL:https://business.reidsvillechamber.org/events/details/carolina-apothecary-medicool-breast-form-event-10-05-2010-1513
END:VEVENT

END:VCALENDAR
