BEGIN:VCALENDAR
VERSION:2.0
PRODID:-//ChamberMaster//Event Calendar 2.0//EN
METHOD:PUBLISH
X-PUBLISHED-TTL:P3D
REFRESH-INTERVAL:P3D
CALSCALE:GREGORIAN
BEGIN:VEVENT
DTSTART:20110513T160000Z
DTEND:20110513T190000Z
X-MICROSOFT-CDO-ALLDAYEVENT:FALSE
SUMMARY:Caswell Family Medical Center B-B-Q Event
DESCRIPTION:You can support a worthy cause while getting a delicious meal on Friday\, May 13\, at Ace Home and Building Center if you purchase a B-B-Q plate with two sides\, dessert and drink  or B-B-Q by the pound to help fund Zachary Gusler's Eagle Scout project.\n\nGusler who is a member of Troop 372 and a student at Bartlett Yancey High School has chosen as his project to beautify the courtyard at Caswell Family Medical Center.\n\nBusinesses and individuals can support Gusler by purchasing a B-B-Q plate or B-B-Q by the pound for $7.50\, or by sponsoring or donating materials\, plants or funds for the project.  You can also choose to sponsor a plant to place in the courtyard in memory of a loved one.\n\nFor more information or to purchase a ticket contact Zachary Gusler at 336-694-1508 or Caswell Family Medical Center at 336-694-9331.
X-ALT-DESC;FMTTYPE=text/html:You can support a worthy cause while getting a delicious meal on Friday\, May 13\, at Ace Home and Building Center if you purchase a B-B-Q plate with two sides\, dessert and drink&nbsp\; or B-B-Q by the pound to help fund Zachary Gusler&#39\;s Eagle Scout project.<br />\nGusler who is a member of Troop 372 and a student at Bartlett Yancey High School has chosen as his project to beautify the courtyard at Caswell Family Medical Center.<br />\nBusinesses and individuals can support Gusler by purchasing a B-B-Q plate or B-B-Q by the pound for $7.50\, or by sponsoring or donating materials\, plants or funds for the project.&nbsp\; You can also choose to sponsor a plant to place in the courtyard in memory of a loved one.<br />\nFor more information or to purchase a ticket contact Zachary Gusler at 336-694-1508 or Caswell Family Medical Center at 336-694-9331.
LOCATION:Ace Home and Building\, 1219 Main Street East\, Yanceyville\, NC 27379
UID:e.111.1919
SEQUENCE:3
DTSTAMP:20260423T170831Z
URL:https://business.reidsvillechamber.org/events/details/caswell-family-medical-center-b-b-q-event-05-13-2011-1919
END:VEVENT

END:VCALENDAR
