BEGIN:VCALENDAR
VERSION:2.0
PRODID:-//ChamberMaster//Event Calendar 2.0//EN
METHOD:PUBLISH
X-PUBLISHED-TTL:P3D
REFRESH-INTERVAL:P3D
CALSCALE:GREGORIAN
BEGIN:VEVENT
DTSTART:20150206T160000Z
DTEND:20150206T200000Z
X-MICROSOFT-CDO-ALLDAYEVENT:FALSE
SUMMARY:CBCC Blood Drive - Lowe's Home Improvement
DESCRIPTION:Community Blood Center of the Carolinas\n\nBlood Drive at Lowe's Home Improvement\n\n\n\nFor appointments at either of these drives\, visit www.cbcc.us.  \n\nWALK-INS ARE ALWAYS WELCOME!\n\nThe Community Blood Center of the Carolinas is now the primary blood supplier of all of the Cone Health System Hospitals.
X-ALT-DESC;FMTTYPE=text/html:<div style="text-align: center\;">Community Blood Center of the Carolinas<br />\nBlood Drive at Lowe&#39\;s Home Improvement<br />\n<br />\n<span style="font-family:arial\,sans-serif\;"><span style="font-size:11pt\;">For appointments at either of these drives\, visit&nbsp\;<a href="http://www.cbcc.us/" style="color:purple\;outline:none\;" target="_blank" title="This external link will open in a new window">www.cbcc.us</a>. &nbsp\;<br />\nWALK-INS ARE ALWAYS WELCOME!</span></span><br />\n<span style="font-family:arial\,sans-serif\;"><span style="font-size:11pt\;">The Community Blood Center of the Carolinas is now the primary blood supplier of all of the Cone Health System Hospitals.</span></span><br />\n&nbsp\;</div>\n
LOCATION:5201 US 29 Business Reidsville\, NC 27320
UID:e.111.3028
SEQUENCE:3
DTSTAMP:20260422T103327Z
URL:https://business.reidsvillechamber.org/events/details/cbcc-blood-drive-lowe-s-home-improvement-02-06-2015-3028
END:VEVENT

END:VCALENDAR
