BEGIN:VCALENDAR
VERSION:2.0
PRODID:-//ChamberMaster//Event Calendar 2.0//EN
METHOD:PUBLISH
X-PUBLISHED-TTL:P3D
REFRESH-INTERVAL:P3D
CALSCALE:GREGORIAN
BEGIN:VEVENT
DTSTART:20090920T180000Z
DTEND:20090920T200000Z
X-MICROSOFT-CDO-ALLDAYEVENT:FALSE
SUMMARY:Century 21 Helping Teachers
DESCRIPTION:HELP US HELP TEACHERS!!\n\nMore & more teachers are having to reach into their pockets to purchase supplies. The Knowles Team is adopting a teacher for the year from various schools in Rockingham County.\n\nIf you would like to help out\, please visit one of the Open Houses listed below as one of the drop off locations for any supplies that you would like to donate. Some items needed: Paper\, pencils\, hand sanitizer\, etc.\, or Gift Cards - NO CASH PLEASE. \n\nPRIZES AT EACH LOCATION!!\n\n1304 Merlin Court ** 250 Winsome Laurel Lane ** 230 Autumn Gate Drive **103 & 421 Birchwood Drive @ PARK PLACE ** 240 Millwood Road ** 702 Walker Street\n\nVISIT www.THEKNOWLESTEAM.com for more Open House details!!
X-ALT-DESC;FMTTYPE=text/html:HELP US HELP TEACHERS!!\n\nMore & more teachers are having to reach into their pockets to purchase supplies. The Knowles Team is adopting a teacher for the year from various schools in Rockingham County.\n\nIf you would like to help out\, please visit one of the Open Houses listed below as one of the drop off locations for any supplies that you would like to donate. Some items needed: Paper\, pencils\, hand sanitizer\, etc.\, or Gift Cards - NO CASH PLEASE. \n\nPRIZES AT EACH LOCATION!!\n\n1304 Merlin Court ** 250 Winsome Laurel Lane ** 230 Autumn Gate Drive **103 & 421 Birchwood Drive @ PARK PLACE ** 240 Millwood Road ** 702 Walker Street\n\nVISIT www.THEKNOWLESTEAM.com for more Open House details!!
LOCATION:
UID:e.111.1217
SEQUENCE:3
DTSTAMP:20260425T005739Z
URL:https://business.reidsvillechamber.org/events/details/century-21-helping-teachers-09-20-2009-1217
END:VEVENT

END:VCALENDAR
