BEGIN:VCALENDAR
VERSION:2.0
PRODID:-//ChamberMaster//Event Calendar 2.0//EN
METHOD:PUBLISH
X-PUBLISHED-TTL:P3D
REFRESH-INTERVAL:P3D
CALSCALE:GREGORIAN
BEGIN:VEVENT
DTSTART:20111010T213000Z
DTEND:20111010T233000Z
X-MICROSOFT-CDO-ALLDAYEVENT:FALSE
SUMMARY:Cervical Cancer Screening
DESCRIPTION:Annie Penn Hospital will hold a free Cervical Cancer Screening in the Annie Penn Cancer Center on Monday\, October 10th\, from 5:30-7:30 p.m. The screening is open to the public.  Registration is required. For more information\, or to register\, call Health Connect @832-8000
X-ALT-DESC;FMTTYPE=text/html:<span style="font-size: 11pt\; font-family: calibri\; mso-fareast-font-family: 'times new roman'\; mso-bidi-font-family: 'times new roman'\; mso-ansi-language: en-us\; mso-fareast-language: en-us\; mso-bidi-language: ar-sa"><font color="#000000" face="Times New Roman">Annie Penn Hospital will hold a free Cervical Cancer Screening in the Annie Penn Cancer Center on <b style="mso-bidi-font-weight: normal">Monday\, October 10<sup>th</sup></b>\, from 5:30-7:30 p.m. The screening is open to the public.<span style="mso-spacerun: yes">&nbsp\; </span>Registration is required. For more information\, or to register\, call Health Connect @832-8000</font></span>
LOCATION:Annie Penn Hospital
UID:e.111.2034
SEQUENCE:3
DTSTAMP:20260423T085432Z
URL:https://business.reidsvillechamber.org/events/details/cervical-cancer-screening-10-10-2011-2034
END:VEVENT

END:VCALENDAR
