BEGIN:VCALENDAR
VERSION:2.0
PRODID:-//ChamberMaster//Event Calendar 2.0//EN
METHOD:PUBLISH
X-PUBLISHED-TTL:P3D
REFRESH-INTERVAL:P3D
CALSCALE:GREGORIAN
BEGIN:VEVENT
DTSTART:20120329T213000Z
DTEND:20120329T230000Z
X-MICROSOFT-CDO-ALLDAYEVENT:FALSE
SUMMARY:Chamber After Hours-Reidsville Florist & Gifts
DESCRIPTION:In typical Chamber fashion\, join us for networking and great food! Reidsville Florist and Gifts is our wonderful host for the evening. Come to Downtown Reidsville and enjoy this wonderful Florist and Gift Shop!
X-ALT-DESC;FMTTYPE=text/html:<p>\n	In typical Chamber fashion\, join us for networking and great food! Reidsville Florist and Gifts is our wonderful host for the evening. Come to Downtown Reidsville and enjoy this wonderful Florist and Gift Shop!</p>\n
LOCATION:Reidsville Florist &Gifts 119 S.Scales Street Reidsville\, NC 27320
UID:e.111.2159
SEQUENCE:3
DTSTAMP:20260421T131538Z
URL:https://business.reidsvillechamber.org/events/details/chamber-after-hours-reidsville-florist-gifts-03-29-2012-2159
END:VEVENT

END:VCALENDAR
